BEGIN:VCALENDAR
VERSION:2.0
PRODID:-//wp-events-plugin.com//7.2.3.1//EN
TZID:Europe/Berlin
X-WR-TIMEZONE:Europe/Berlin
BEGIN:VEVENT
UID:10711@terminal.digital
DTSTART;TZID=Europe/Berlin:20260401T161500
DTEND;TZID=Europe/Berlin:20260401T170000
DTSTAMP:20260324T200603Z
X-RECURS:FALSE
URL:https://terminal.digital/events/zubringer-fuer-unsere-zukunft-ist-kein
 -witz-wir-halten-zusammen-fuer-ein-besseres-morgen/
SUMMARY:Zubringer für "Unsere Zukunft ist kein Witz - Wir halten zusammen 
 für ein besseres Morgen."
DESCRIPTION:Zubringer Demo vom Hbf von Azubis gegen Rechts Dresden
CATEGORIES:Demo, Kundgebung
LOCATION:Dresden Hauptbahnhof\, Wiener Platz 4\, Dresden\, 01069\, Deutschl
 and
X-APPLE-STRUCTURED-LOCATION;VALUE=URI;X-ADDRESS=Wiener Platz 4\, Dresden\, 
 01069\, Deutschland;X-APPLE-RADIUS=100;X-TITLE=Dresden Hauptbahnhof:geo:0,
 0
END:VEVENT
BEGIN:VTIMEZONE
TZID:Europe/Berlin
X-LIC-LOCATION:Europe/Berlin
BEGIN:DAYLIGHT
DTSTART:20260329T030000
TZOFFSETFROM:+0100
TZOFFSETTO:+0200
TZNAME:CEST
END:DAYLIGHT
END:VTIMEZONE
END:VCALENDAR