BEGIN:VCALENDAR
VERSION:2.0
PRODID:-//wp-events-plugin.com//7.2.3.1//EN
TZID:Europe/Berlin
X-WR-TIMEZONE:Europe/Berlin
BEGIN:VEVENT
UID:10533@terminal.digital
DTSTART;TZID=Europe/Berlin;VALUE=DATE:20260508
DTEND;TZID=Europe/Berlin;VALUE=DATE:20260511
DTSTAMP:20260412T170244Z
X-RECURS:FALSE
URL:https://terminal.digital/events/zeit-zum-denken-ueber-mensch-donna-har
 away-philosophisches-reiseseminar/
SUMMARY:Zeit zum Denken über Mensch. Donna Haraway Philosophisches Reisese
 minar
DESCRIPTION:Beginn\, Freitag\, 08.05.2026\, 16:00 im riesa efau\, dann geme
 insame Fahrt nach Mittelherwogsdorf. Ende Sonntag\, 10.05.2026\, 16.00\nAn
 meldung über HP riesa efau\nWas bedeutet es heute\, „Mensch“ zu sagen
 ? Insbesondere wenn wir ökologische Kipppunkte\, technologische Durchdrin
 gung\, wachsende Ungleichheit und weitere ineinander verwobene Krisen mitd
 enken? Donna Haraway gehört zu den einflussreichsten Stimmen\, die den Me
 nschen nicht als isoliertes Wesen versteht\, sondern als Knotenpunkt vielf
 ältiger Beziehungen. Ihre Texte sind zugleich philosophische Intervention
 en und politische Angebote: Sie rufen dazu auf\, die Welt jenseits alter G
 renzziehungen von Natur und Kultur\, Mensch und Tier\, Technik und Leben z
 u denken und sich von diesen Verstrickungen berühren zu lassen.\n\nHarawa
 y erinnert daran\, dass Denken selbst eine Beziehungspraxis ist. „Thinki
 ng is a materialist practice with other thinkers“\, schreibt sie. Damit 
 wird Denken zu etwas\, das nicht distanziert bleibt\, sondern etwas\, das 
 Nähe erzeugt: zu anderen Menschen\, zu anderen Lebewesen\, zu den Bedingu
 ngen unseres gemeinsamen Lebens. Diese Berührbarkeit öffnet politische F
 ragen neu\, etwa nach Verantwortung\, nach geteilten Verwundbarkeiten und 
 nach den Möglichkeiten solidarischer Zukünfte.\nIm Seminar widmen wir un
 s ausgewählte Texte Haraways. Wir fragen\, welche gesellschaftlichen und 
 politischen Implikationen dieses Denken heute hat: für Debatten um Klimag
 erechtigkeit\, Artensterben\, Fürsorgebeziehungen\, technologische Rekonf
 igurationen und die Erzählungen\, mit denen Gesellschaften ihre Gegenwart
  und Zukunft entwerfen.\nIm Mittelpunkt stehen gemeinsame Diskussionen und
  eine dafür notwendige Offenheit für unterschiedliche Positionen\, Frage
 n und Perspektiven. Ergänzt wird das Seminar durch ein kleines Kulturprog
 ramm sowie die Möglichkeit zu Spaziergängen in der Umgebung\, die das De
 nken in Bewegung bringen und Räume für berührende Begegnungen schaffen.
 \n\nUnser Seminar findet wieder in der wunderschönen und geschichtsträch
 tigen Landschaft der Oberlausitz statt. Wir verbringen die Zeit zusammen i
 n der Kulturfabrik Meda in Mittelherwigsdorf mitten im Zittauer Gebirge. D
 ie ehemalige Nudelfabrik ist in den letzten bald 30 Jahren dank eines enga
 gierten Vereins zu einem Ort voller Leben\, Kunst\, Kultur und Begegnung g
 eworden\, der Ruhe und Raum für Ideen bietet. Dazu gehören neben einem A
 telier\, einem Kinosaal und einer Kneipe auch die individuell gestalteten 
 Zimmer\, in denen wir untergebracht sind.\n(Die Unterbringung in Einzelzim
 mern ist gegen Aufpreis möglich\, bitte bei Anmeldung angeben.)\n\nOrt/Un
 terkunft Kulturfabrik Meda. Mittelherwigsdorf. Bei der Anmeldung bitte be
 sondere Verpflegungswünsche angeben.\nGebühr 150 Euro / ermäßigt 90 E
 uro inkl. Übernachtung\, Verpflegung\nDer Teilnahmebeitrag trägt bis zu 
 zweidrittel zur Gesamtfinanzierung des Seminars bei.\nTeam Alejandro Vald
 ivia  Denise Ackermann
END:VEVENT
BEGIN:VTIMEZONE
TZID:Europe/Berlin
X-LIC-LOCATION:Europe/Berlin
BEGIN:DAYLIGHT
DTSTART:20260329T030000
TZOFFSETFROM:+0100
TZOFFSETTO:+0200
TZNAME:CEST
END:DAYLIGHT
END:VTIMEZONE
END:VCALENDAR