BEGIN:VCALENDAR
VERSION:2.0
PRODID:-//wp-events-plugin.com//7.2.3.1//EN
TZID:Europe/Berlin
X-WR-TIMEZONE:Europe/Berlin
BEGIN:VEVENT
UID:10818@terminal.digital
DTSTART;TZID=Europe/Berlin:20260509T170000
DTEND;TZID=Europe/Berlin:20260510T020000
DTSTAMP:20260417T113349Z
X-RECURS:FALSE
URL:https://terminal.digital/events/wir-feiern-10-jahre-mission-lifeline/
SUMMARY:Wir Feiern: 10 Jahre Mission Lifeline
DESCRIPTION:WIR FEIERN: 10 Jahre MISSION LIFELINE\, 10 Jahre Kampf für Men
 schlichkeit\, 10 Jahre mit EUCH.\nDieser Meilenstein wäre ohne die zahlre
 ichen Menschen\, die uns in all den Jahren begleitet und unterstützt habe
 n\, niemals möglich gewesen. Deshalb ist es an der Zeit\, ganz herzlich D
 ANKE zu sagen. Doch die Welt verroht und die Situation von Menschen auf de
 r Flucht ist gefährlicher denn je. Wir möchten gemeinsam auf die Arbeit 
 der letzten 10 Jahre zurückblicken\, aber den Moment auch nutzen\, um noc
 h einmal ganz unmissverständlich klar zu machen: Wir nehmen die zunehmend
  menschenfeindliche Politik nicht hin. Wir stehen auch in Zukunft unbeugsa
 m an der Seite aller schutzsuchenden Menschen und leisten Nothilfe\, wo St
 aaten versagen.\n\nAm 09.05. öffnen wir ab 17 Uhr die Türen zu unserer J
 ubiläumsveranstaltung in der Chemiefabrik und laden euch alle ein\, gemei
 nsam mit uns zu feiern. Es erwartet euch ein abwechslungsreiches Programm\
 , das sowohl zum Mitmachen als auch zum Informieren und Austausch einlädt
 . Betrachtet Bilder unserer Projekte in einer Ausstellung\, werdet kreativ
  und kommt mit uns ins Gespräch. Außerdem wird es Vorträge über unsere
  Arbeit\, ein musikalisches Programm und Soli-Tattoos geben.\nKommt vorbei
 \, wir freuen uns darauf\, gemeinsam mit euch 10 Jahre MISSION LIFELINE zu
  feiern!\n\nWann: 09.05.2026\nUhrzeit: 17:00 Uhr\nEintritt: auf Spendenba
 sis\n\nProgramm:\n17:00 – 19:00 Uhr: Dubtrooper  Sista Aminata (Ou
 tdoor)\n18:00 – 19:30 Uhr: Vorträge „10 Jahre im Einsatz für Mensche
 n“\n20:00 – 21:00 Uhr: Neustädter Harz\n21:00 – 22:00 Uhr: Empty Pi
 nt  The Hot Shots\n22:00 – 23:00 Uhr: Lohrge\ndanach: Dirty.X.Fahr
 rad
ATTACH;FMTTYPE=image/jpeg:https://terminal.digital/wp-content/uploads/2026
 /04/Einladung_resized.avif
CATEGORIES:Konzert,Party, Festival,Vortrag, Podium
LOCATION:Chemiefabrik\, Petrikirchstraße 5\, Dresden\, 01097\, Deutschland
X-APPLE-STRUCTURED-LOCATION;VALUE=URI;X-ADDRESS=Petrikirchstraße 5\, Dresd
 en\, 01097\, Deutschland;X-APPLE-RADIUS=100;X-TITLE=Chemiefabrik:geo:0,0
END:VEVENT
BEGIN:VTIMEZONE
TZID:Europe/Berlin
X-LIC-LOCATION:Europe/Berlin
BEGIN:DAYLIGHT
DTSTART:20260329T030000
TZOFFSETFROM:+0100
TZOFFSETTO:+0200
TZNAME:CEST
END:DAYLIGHT
END:VTIMEZONE
END:VCALENDAR