BEGIN:VCALENDAR
VERSION:2.0
PRODID:-//wp-events-plugin.com//7.2.3.1//EN
TZID:Europe/Berlin
X-WR-TIMEZONE:Europe/Berlin
BEGIN:VEVENT
UID:10824@terminal.digital
DTSTART;TZID=Europe/Berlin:20260421T130000
DTEND;TZID=Europe/Berlin:20260421T170000
DTSTAMP:20260420T111522Z
X-RECURS:FALSE
URL:https://terminal.digital/events/weit-denken-weil-das-denkmal-bereits-s
 teht-gndin-dur-kaj-o-monumento-lace-si-kothe/
SUMMARY:Weit denken\, weil das Denkmal bereits steht.  Gndin dur\, kaj o mo
 numento lace si kothe.
DESCRIPTION:Workshop zur Verfolgung und Vernichtung der Roma* und Sinti* im
  Nationalsozialismus mit künstlerischen Praxen\nDie Verfolgung und Vernic
 htung der Roma* und Sinti* im Nationalsozialismus ist nahezu unsichtbar in
  dieser Stadt\, in Europa. Gedenkstätten und Denkmäler mussten erkämpft
  werden\, einige verfallen wieder. Das Berliner Denkmal für die im Nation
 alsozialismus ermordeten Sinti und Roma Europas soll einem Infrastrukturpr
 ojekt weichen. In Dresden steht eines der größeren Denkmäler in Deutsch
 land\, das an den Mord an den Sinti* und Roma* erinnert: Der Boxring 9841 
 – Ein Denkmal für Johann Rukeli Trollmann auf dem Gelände des Festspie
 lhaus Hellerau. Ausgehend von diesem Denkmal untersuchen wir Architekturen
  und Praxen des Erinnerns - die damit einhergehenden Kämpfe\, Formen und 
 Ästhetiken. Welche Ideen\, Gedanken\, Politiken und Widerstände braucht 
 es für das Erinnern an die Verfolgung und Ermordung der Roma* und Sinti* 
 in dieser Gegenwart? Der Workshop sucht Antworten.\n\n21. April 2026\, 13-
 17 Uhr\, Ort ist am Campus der TU Dresden und barrierearm zugänglich\, er
  wird nach Anmeldung unter bystander@tu-dresden.de bekannt gegeben.\n\nDie
  Veranstaltung ist Teil der Reihe "Ich sehe was\, was du nicht siehst. Rom
 :nja und Sinti:zze im Blick der TU Dresden"
CATEGORIES:Workshop, Lesekreis
LOCATION:TU Dresden (genauer Ort in VA-Beschreibung)\, Technische Universit
 ät Dresden\, Dresden\, 01062\, Deutschland
X-APPLE-STRUCTURED-LOCATION;VALUE=URI;X-ADDRESS=Technische Universität Dre
 sden\, Dresden\, 01062\, Deutschland;X-APPLE-RADIUS=100;X-TITLE=TU Dresden
  (genauer Ort in VA-Beschreibung):geo:0,0
END:VEVENT
BEGIN:VTIMEZONE
TZID:Europe/Berlin
X-LIC-LOCATION:Europe/Berlin
BEGIN:DAYLIGHT
DTSTART:20260329T030000
TZOFFSETFROM:+0100
TZOFFSETTO:+0200
TZNAME:CEST
END:DAYLIGHT
END:VTIMEZONE
END:VCALENDAR