BEGIN:VCALENDAR
VERSION:2.0
PRODID:-//wp-events-plugin.com//7.2.3.1//EN
TZID:Europe/Berlin
X-WR-TIMEZONE:Europe/Berlin
BEGIN:VEVENT
UID:10826@terminal.digital
DTSTART;TZID=Europe/Berlin:20260510T103000
DTEND;TZID=Europe/Berlin:20260510T103000
DTSTAMP:20260420T112553Z
X-RECURS:FALSE
URL:https://terminal.digital/events/wanderung-zu-nationalsozialismus-und-w
 iderstand-in-der-saechsischen-schweiz-2/
SUMMARY:Wanderung zu Nationalsozialismus und Widerstand in der sächsischen
  Schweiz
DESCRIPTION:Liebe Menschen\, wir\, die Schwarz-Roten Bergsteiger_innen\, la
 den euch im Rahmen des 8./9. Mai zum 81. Jahrestag der Befreiung vom Natio
 nalsozialismus zu einer Wanderung in der sächsischen Schweiz mit geschich
 tlichem Input ein. Die Tour dauert circa 7h und ist für Hunde eher ungeei
 gnet. Wir freuen uns auf euch\, eure SRB.\n\nTreffpunkt nach Anmledung unt
 er: srb[at]fau.org\n\nDauer 7h\, anpruchsvoll\, festes Schuhwerk und Tritt
 sicherheit erforderlich\, für Hunder eher ungeeignet
CATEGORIES:Sport,Vortrag, Podium
END:VEVENT
BEGIN:VTIMEZONE
TZID:Europe/Berlin
X-LIC-LOCATION:Europe/Berlin
BEGIN:DAYLIGHT
DTSTART:20260329T030000
TZOFFSETFROM:+0100
TZOFFSETTO:+0200
TZNAME:CEST
END:DAYLIGHT
END:VTIMEZONE
END:VCALENDAR