BEGIN:VCALENDAR
VERSION:2.0
PRODID:-//wp-events-plugin.com//7.2.3.1//EN
TZID:Europe/Berlin
X-WR-TIMEZONE:Europe/Berlin
BEGIN:VEVENT
UID:10835@terminal.digital
DTSTART;TZID=Europe/Berlin:20260508T190000
DTEND;TZID=Europe/Berlin:20260508T210000
DTSTAMP:20260425T073533Z
X-RECURS:FALSE
URL:https://terminal.digital/events/ueberlebensoptionen-widerstand-vergelt
 ung-juedische-reaktionen-auf-die-shoah-in-jugoslawien-1941-1945/
SUMMARY:Überlebensoptionen\, Widerstand\, Vergeltung – Jüdische Reaktio
 nen auf die Shoah in Jugoslawien 1941-1945
DESCRIPTION:\n\n\nJugoslawien wurde nach dem Überfall Deutschlands\, Itali
 ens und verbündeter Mächte im April 1941 besetzt und aufgeteilt. In alle
 n Landesteilen setzte eine unterschiedlich starke Verfolgung der jüdische
 n Bevölkerung ein\, die besonders in Serbien unter deutscher Besatzung un
 d im „Unabhängigen Staat Kroatien“ unter Ustaša-Herrschaft in einem 
 schnell durchgeführten Massenmord mündete. Bereits 1942 verkündeten Deu
 tsche Behörden „Serbien ist judenfrei“. Dem war nicht so. Vielmehr ga
 b es vielfältige Reaktionen und Widerstand.\n\nDer Vortrag fokussiert die
  jüdischen Reaktionen und auch Handlungsoptionen angesichts von Enteignun
 g\, Entrechtung und Deportation. Diese waren sehr unterschiedlich und chan
 gierten zwischen Anpassung\, Flucht\, Verstecken und dem Anschließen an d
 ie militärischen Widerstandsgruppen\, entweder kommunistische Partisanen 
 oder die nationalserbische Četnici.\nWie gingen die jeweiligen Widerstand
 sbewegungen mit den jüdischen Kämpfenden und Zivilist*innen um? Wer übe
 rlebte in deutschen und Ustaša-Lagern oder konnte aus diesen ausbrechen? 
 In welchem Umfang gab es Vergeltung und jüdische Rächer*innen in Jugosla
 wien?\n\nWieland Köbsch hat seine Promotion an der Uni Hamburg zur Geschi
 chte des jüdischen Widerstands im ehemaligen Jugoslawien geschrieben.\n\n
 \n
CATEGORIES:Vortrag, Podium
LOCATION:Kosmotique\, Martin-Luther-Straße 13\, Dresden\, Sachsen\, 01099\
 , Deutschland
X-APPLE-STRUCTURED-LOCATION;VALUE=URI;X-ADDRESS=Martin-Luther-Straße 13\, 
 Dresden\, Sachsen\, 01099\, Deutschland;X-APPLE-RADIUS=100;X-TITLE=Kosmoti
 que:geo:0,0
END:VEVENT
BEGIN:VTIMEZONE
TZID:Europe/Berlin
X-LIC-LOCATION:Europe/Berlin
BEGIN:DAYLIGHT
DTSTART:20260329T030000
TZOFFSETFROM:+0100
TZOFFSETTO:+0200
TZNAME:CEST
END:DAYLIGHT
END:VTIMEZONE
END:VCALENDAR