BEGIN:VCALENDAR
VERSION:2.0
PRODID:-//wp-events-plugin.com//7.2.3.1//EN
TZID:Europe/Berlin
X-WR-TIMEZONE:Europe/Berlin
BEGIN:VEVENT
UID:10650@terminal.digital
DTSTART;TZID=Europe/Berlin:20260413T200000
DTEND;TZID=Europe/Berlin:20260413T200000
DTSTAMP:20260303T193027Z
X-RECURS:FALSE
URL:https://terminal.digital/events/trotzdem-zuhause/
SUMMARY:Trotzdem Zuhause
DESCRIPTION:mit Tupoka Ogette und Yasemin Said\n\nDer Eintritt ist kostenfr
 ei!\nEine Anmeldung (https://weiterdenken.de/de/form/trotzdem-zuhause-buch
 vorstellung) ist nötig.\n\n»So beginnt meine Geschichte. Als Tochter ein
 er weißen Frau und eines Schwarzen Mannes. Zwischen Sange\, Südtansania\
 , und Gera\, Thüringen. Zwischen kolonialer Vergangenheit und DDR-Diktatu
 r.«\n\nDie in Leipzig geborene Autorin\, Beraterin und Trainerin im Berei
 ch #Rassismuskritik Tupoka Ogette stellt ihr neues Buch „Trotzdem zuhaus
 e“ vor. Darin schreibt sie über die Suche nach Zugehörigkeit\, über d
 as Leben im Widerspruch und im Dazwischen – und über das Aufwachsen als
  Schwarzes Kind in #Ostdeutschland.\n\nSie erzählt von Flucht und Verlust
 \, von Sexismus und Gewalt\, aber auch von Liebe\, Mutterschaft\, Resilien
 z und Selbstermächtigung. Von Freundschaften\, die sie schließt\, und so
 lchen\, die sie verliert. Vom Neuanfang und davon\, die Ruhe im Sturm zu f
 inden.\n\nAlle Infos zur Veranstaltung (https://kulturbuero-sachsen.de/les
 ung-und-gespraech-trotzdem-zuhause-mit-tupoka-ogette/)
CATEGORIES:Film, Theater
LOCATION:Schauburg\, Königsbrücker Str. 55\, Dresden\, 01099\, Deutschlan
 d
X-APPLE-STRUCTURED-LOCATION;VALUE=URI;X-ADDRESS=Königsbrücker Str. 55\, D
 resden\, 01099\, Deutschland;X-APPLE-RADIUS=100;X-TITLE=Schauburg:geo:0,0
END:VEVENT
BEGIN:VTIMEZONE
TZID:Europe/Berlin
X-LIC-LOCATION:Europe/Berlin
BEGIN:DAYLIGHT
DTSTART:20260329T030000
TZOFFSETFROM:+0100
TZOFFSETTO:+0200
TZNAME:CEST
END:DAYLIGHT
END:VTIMEZONE
END:VCALENDAR