BEGIN:VCALENDAR
VERSION:2.0
PRODID:-//wp-events-plugin.com//7.2.3.1//EN
TZID:Europe/Berlin
X-WR-TIMEZONE:Europe/Berlin
BEGIN:VEVENT
UID:10828@terminal.digital
DTSTART;TZID=Europe/Berlin:20260428T190000
DTEND;TZID=Europe/Berlin:20260428T220000
DTSTAMP:20260420T164756Z
X-RECURS:FALSE
URL:https://terminal.digital/events/telepathy-apoa/
SUMMARY:Telepathy &amp\; APOA
DESCRIPTION:Telepathy (Essex\, UK) // Post-Metal/Cinematic\nhttps://telepat
 hyband.bandcamp.com/\n+++\nAPOA (Dresden) // Post-Metal/Post-Rock\nhttps:/
 /apoa.bandcamp.com/\n+++\nEinlass: 19:00 Uhr\nStart: 19:30 Uhr\nEnde: 22:0
 0 Uhr
ATTACH;FMTTYPE=image/jpeg:https://terminal.digital/wp-content/uploads/2026
 /04/DRESDEN-28.04-INSTA-Story.avif
CATEGORIES:Konzert
LOCATION:riesa efau.\, Adlergasse 14\, Dresden\, 01067\, Deutschland
X-APPLE-STRUCTURED-LOCATION;VALUE=URI;X-ADDRESS=Adlergasse 14\, Dresden\, 0
 1067\, Deutschland;X-APPLE-RADIUS=100;X-TITLE=riesa efau.:geo:0,0
END:VEVENT
BEGIN:VTIMEZONE
TZID:Europe/Berlin
X-LIC-LOCATION:Europe/Berlin
BEGIN:DAYLIGHT
DTSTART:20260329T030000
TZOFFSETFROM:+0100
TZOFFSETTO:+0200
TZNAME:CEST
END:DAYLIGHT
END:VTIMEZONE
END:VCALENDAR