BEGIN:VCALENDAR
VERSION:2.0
PRODID:-//wp-events-plugin.com//7.2.3.1//EN
TZID:Europe/Berlin
X-WR-TIMEZONE:Europe/Berlin
BEGIN:VEVENT
UID:10724@terminal.digital
DTSTART;TZID=Europe/Berlin:20260430T170000
DTEND;TZID=Europe/Berlin:20260430T210000
DTSTAMP:20260327T120931Z
X-RECURS:FALSE
URL:https://terminal.digital/events/tanz-wie-du-willst-farbwerkdisco/
SUMMARY:Tanz wie du willst – farbwerkDisco
DESCRIPTION:Disco – Henny-Brenner Saal: \n\nEintritt: 3€\n\nJEDE*R HAT
  EIN RECHT AUF TANZEN\n\nTanz wie du willst:\nHeute entscheidest Du.\nWün
 sch dir deine Musik!\n\nZieh an\, was du willst.\nHeute ist dein Abend.\n\
 n\nfarbwerkDisco ist gemeinsam feiern.\nfarbwerkDisco ist Tanzen.\nfarbwer
 kDisco ist gemeinsam Spaß haben.\nfarbwerkDisco ist Menschen treffen.\nfa
 rbwerkDisco ist Musik spüren.\nfarbwerkDisco ist Bewegung.\nfarbwerkDisco
  ist Alltag vergessen.\nfarbwerkDisco ist barrierearm.\nfarbwerkDisco ist 
 für Menschen mit und ohne Behinderung.\nfarbwerkDisco ist einmal im Monat
 .\nfarbwerkDisco ist am frühen Abend.\nfarbwerkDisco ist für alle.\n\nBa
 rrierefreiheit\nBitte teile uns eine Woche vor der Veranstaltung deinen Be
 darf zur Barrierefreiheit mit\, damit wir diesen besser berücksichtigen k
 önnen.\n\nFür Assistent*innen ist die Veranstaltung kostenlos und es ist
  keine Extra-Anmeldung notwendig.\n\nDie Räume und Toiletten sind rollstu
 hlgerecht. Der Zugang zum Gebäude für Rollstuhlfahrer*innen erfolgt übe
 r eine Rampe.\n\nWir achten bei den Veranstaltungen auf Einfache Sprache.\
 n\nDie Bar ist in einem anderen Raum. Dort gibt es keine Musik. Wenn es di
 r im Disco-Raum zu laut ist\, kannst du zur Bar gehen. Es gibt aber kein e
 xtra Zimmer nur zum Ausruhen.\n\nTastführungen sind möglich. Kein Leitsy
 stem vorhanden.\n\nAbhol- und Begleitservice auf Anfrage: Abholservice von
  der S-Bahn oder dem Bus zum Zentralwerk und zurück. Kurze Führung\, um 
 sich mit dem Zentralwerk vertraut zu machen.\n\nFragen?\nFragen oder Rück
 meldungen an unser Disco-Team:\n\nWeitere Infos: https://www.farbwerk-kult
 ur.de/?p=3134\n\nMail: disco@farbwerk-kultur.de\nTelefon: 0159 06217216\n\
 nChat: via SMS\, WhatsApp und Telegram: 0159 06217216\n\nFörderhinweis\nD
 ieses Projekt wird gefördert von Aktion Mensch\, der Kulturstiftung Sachs
 en und dem Amt für Kultur und Denkmalschutz der Stadt Dresden.\n\n
ATTACH;FMTTYPE=image/jpeg:https://terminal.digital/wp-content/uploads/2026
 /03/April_farbwerkDisco_resized.avif
CATEGORIES:Party, Festival
LOCATION:Zentralwerk Kultur- und Wohngenossenschaft\,  Riesaer Str. 32\, Dr
 esden\, 01127\, Deutschland
X-APPLE-STRUCTURED-LOCATION;VALUE=URI;X-ADDRESS= Riesaer Str. 32\, Dresden\
 , 01127\, Deutschland;X-APPLE-RADIUS=100;X-TITLE=Zentralwerk Kultur- und W
 ohngenossenschaft:geo:0,0
END:VEVENT
BEGIN:VTIMEZONE
TZID:Europe/Berlin
X-LIC-LOCATION:Europe/Berlin
BEGIN:DAYLIGHT
DTSTART:20260329T030000
TZOFFSETFROM:+0100
TZOFFSETTO:+0200
TZNAME:CEST
END:DAYLIGHT
END:VTIMEZONE
END:VCALENDAR