BEGIN:VCALENDAR
VERSION:2.0
PRODID:-//wp-events-plugin.com//7.2.3.1//EN
TZID:Europe/Berlin
X-WR-TIMEZONE:Europe/Berlin
BEGIN:VEVENT
UID:10658@terminal.digital
DTSTART;TZID=Europe/Berlin:20260430T200000
DTEND;TZID=Europe/Berlin:20260430T210000
DTSTAMP:20260407T112621Z
X-RECURS:FALSE
URL:https://terminal.digital/events/take-back-the-night-3/
SUMMARY:Take Back The Night
DESCRIPTION:\n\n[English - see below]\n\nDie feministische Demonstrati
 on zur Walpurgisnacht\, gegen Sexismus\, patriarchale Gewalt und Unterdrü
 ckung!\n\n\nKommt am 30.04. mit uns auf die Straße! Gegen alle antifemini
 stischen Arschlöcher auf dieser Welt – für die Zerschlagung des Patria
 rchats!\n\nTreffpunkt  Route: 20:00 Uhr Schlossplatz – Gomondai-Pl
 atz – Alaunstraße – Louisenstraße – Görlitzer Straße – Alaunpl
 atz\n\nAufruf:\nGewalt gegen Frauen\, Lesben\, inter\, nichtbinäre\, tran
 s und agender Menschen (FLINTA)\, vom alltäglichen Hass bis hin zu Femini
 ziden\, hier in Dresden und international – enough is enough!\n\nWir all
 e befinden uns in turbulenten Zeiten: Errungenschaften\, für die Jahrzehn
 te feministisch gekämpft wurde\, sollen zurück gedrängt werden. Und das
 \, während wir immer noch tagtäglich mit Misogynie und sexualisierter Ge
 walt konfrontiert sind. Abtreibung wird immer weiter kriminalisiert und di
 e Rechte von Queers werden massiv beschnitten. Insbesondere trans Menschen
  werden bei diesem Backlash ins Ziel genommen. In Kriegen\, in ökologisch
 en und gesellschaftlichen Krisen wird sexualisierte Gewalt gezielt als Waf
 fe gegen unsere Körper eingesetzt. Von Armut betroffene FLINTA werden an 
 den Rand der Gesellschaft gedrängt.\n\nFrauen werden – wie in den media
 l bekannten Fällen von Collien Fernandes und Gisèle Pelicot – von ihre
 m eigenen (Ex-)Partner über Jahre psychisch und körperlich sexuell missb
 raucht.  Fast täglich hören wir von Feminiziden\, wie der brutalen Töt
 ung der 21-Jährigen Emma letztes Jahr nahe Dresden. Misogyne und queerfei
 ndliche Unterdrückung zeigt sich überall und jeden Tag – das Problem i
 st strukturell.\n\nIn den sozialen Medien werden uns reaktionäre Rollenbi
 lder von Frauen als "trad wives" aufgedrängt. Sie wollen Frauen ins Priva
 te verbannen und sie in die Rolle als Mutter und Hausfrau pressen! Doch ni
 cht mit uns! Wir werden das nicht zulassen und uns gegen diese Repression 
 wehren – Komm' mit uns auf die Straße!\n\nWir wollen für einen antifas
 chistischen und antikapitalistischen Feminismus kämpfen!\nUnser Feminismu
 s ist intersektional: Wir richten uns gegen biologistische\, queerfeindlic
 he\, antisemitische und rassistische Argumentationen. Wir erkennen unsere 
 unterschiedlichen Betroffenheiten und stehen Schulter an Schulter gegen di
 e patriarchale Unterdrückung.\n\nDie heutige Welt ist oft hart und herris
 ch. Umso wichtiger sind unsere Zärtlichkeit und unser Zusammenhalt. \nLa
 sst uns miteinander solidarisch und achtsam sein!\nLasst uns gemeinsam dur
 ch die Straßen ziehen und kämpferisch die Nacht zurückholen! \nLasst u
 ns unsere Wut\, unseren Schmerz und unsere Solidarität vereinen – für 
 die Zerschlagung des Patriarchats!\n\nDie Scham muss die Seite wechseln!\n
 Jin\, Jiyan\, Azadî!\n\nWir rufen zu kreativen Protesten auf. Bildet Band
 en!\n\n FLINTA* only bedeutet: Frauen\, Lesben\, trans\, Inter\, nicht-bi
 näre und agender Personen\, sowie alle\, die sich nicht als endo-cis-män
 nlich identifizieren\, sind zur Demonstration eingeladen.\n\n\n\n\nTAKE BA
 CK THE NIGHT\n\n\nCall for a feminist demonstration on April 30\, 2026\; m
 eeting point: 8 p.m. at Schlossplatz\; WLINTA* only\n\n\nViolence against 
 women\, lesbians\, intersex\, non-binary\, trans\, and agender people (WLI
 NTA)\, from everyday hate to feminicide\, here in Dresden and around the w
 orld—enough is enough!\nWe are all living in turbulent times: gains that
  feminists have fought for over decades now face rollback. This is happeni
 ng while we are still confronted with misogyny and sexualized violence on 
 a daily basis. Abortion keeps getting criminalized\, and the rights of que
 er people are massively attacked. Trans people\, in particular\, are being
  targeted in this backlash.\nIn wars\, and in ecological and social crises
 \, sexualized violence is deliberately used as a weapon against our bodies
 . WLINTA people affected by poverty are pushed to the margins of society.\
 n\nWomen are subjected to years of psychological\, physical\, and sexual a
 buse by their own (ex-)partners—as highlighted in the widely publicized 
 cases of Collien Fernandes and Gisèle Pelicot. Almost every day we hear o
 f feminicides\, such as the brutal killing of 21-year-old Emma last year n
 ear Dresden. Misogynistic and anti-queer oppression is evident everywhere 
 and every day—the problem is systemic.\n\nSocial media is thrusting reac
 tionary gender roles onto us and promotes "trad wives".  They want to con
 fine women to the private sphere and force them into the roles of mothers 
 and housewives! We won’t stand for it! \nWe won’t let this happen\, a
 nd we’ll fight back against this repression—join us in the streets!\n\
 nWe want to fight for an anti-fascist and anti-capitalist feminism! Our fe
 minism is intersectional: We oppose biologistic\, racist\, anti-queer and 
 anti-semitic rhetoric. We will stand together\, shoulder by shoulder\, in 
 all the different ways we are plagued by patriarchy.\n\nToday's world ofte
 n is harsh and hostile. This makes our compassion and comradeship all the 
 more important. \nLet’s show kindness and solidarity!\nLet’s take to 
 the streets together and take back the night!\nLet's make sure that shame 
 switches sides!\nLet’s unite our anger\, our agony\, our affection—and
  let's smash the patriarchy!\nJin\, Jiyan\, Azadî!\n\n\nWe call for creat
 ive protests. Gather your gang and get organized!\n\nWLINTA* only means fo
 r women\, lesbians\, trans\, inter\, non-binary\, and agender people\, as 
 well as for everyone who does not identify as endo-cis-male\n
ATTACH;FMTTYPE=image/jpeg:https://terminal.digital/wp-content/uploads/2026
 /03/Mobi-TBTN-26-terminal.jpg
CATEGORIES:Demo, Kundgebung
LOCATION:Schlossplatz\, Schlossplatz\, Dresden\, 01067\, Deutschland
X-APPLE-STRUCTURED-LOCATION;VALUE=URI;X-ADDRESS=Schlossplatz\, Dresden\, 01
 067\, Deutschland;X-APPLE-RADIUS=100;X-TITLE=Schlossplatz:geo:0,0
END:VEVENT
BEGIN:VTIMEZONE
TZID:Europe/Berlin
X-LIC-LOCATION:Europe/Berlin
BEGIN:DAYLIGHT
DTSTART:20260329T030000
TZOFFSETFROM:+0100
TZOFFSETTO:+0200
TZNAME:CEST
END:DAYLIGHT
END:VTIMEZONE
END:VCALENDAR