BEGIN:VCALENDAR
VERSION:2.0
PRODID:-//wp-events-plugin.com//7.2.3.1//EN
TZID:Europe/Berlin
X-WR-TIMEZONE:Europe/Berlin
BEGIN:VEVENT
UID:1194@terminal.digital
DTSTART;TZID=Europe/Berlin:20240316T170000
DTEND;TZID=Europe/Berlin:20240316T200000
DTSTAMP:20240215T111048Z
X-RECURS:FALSE
URL:https://terminal.digital/events/strategien-des-polizeiverhoers-und-wie
 -wir-uns-dagegen-wehren-koennen-2/
SUMMARY:Strategien des Polizeiverhörs und wie wir uns dagegen wehren könn
 en
DESCRIPTION:Im Rahmen von Aktionen rum um den Internationalen Tag gegen Pol
 izeigewalt (am 15. März) finden in Dresden verschiedene Vorträge und Wor
 kshops statt.\n\nEins davon ist der Workshop im malobeo\, der ein Blick hi
 nter die Kulissen eines Polizeiverhörs gibt. Welche Strategien die Polize
 i lernt\, um uns zu verhören und wie wir uns dagegen wehren können.\n\nF
 assen wir den Kontext in den du gestellt wirst\, wenn du eine Verhörsitua
 tion erlebst\, noch mal zusammen: Du hast nur lückenhafte Informationen 
 über die Ermittlungen\, die dich betreffen\, und über das Material\, das
  die Polizei in Händen hält. Du erlebst einen ungewöhnlichen und stress
 igen Moment. Du bist unsicher\, was in Zukunft passieren wird. Wenn du in 
 Haft genommen wirst\, bist du einer ganzen Reihe von zusätzlichen Belastu
 ngen ausgesetzt\, die abhängig von deinen Haftbedingungen und deinem Frei
 heitsentzug sind. Dir stehen Personen gegenüber\, die in weitreichenden M
 anipulationstechniken ausgebildet sind\, über viel professionnelle Erfahr
 ung in diesem Bereich verfügen und dein Profil mehr oder weniger gut kenn
 en.\nAlle Strategien und Techniken der Polizei haben eine Gemeinsamkeit: U
 m ihre Ziele zu erreichen\, ist die Beteiligung der befragten Person notwe
 ndig\, wenn nicht sogar unerlässlich. Dieses Element stellt deine beste V
 erteidigungsmöglichkeit dar\, die du besitzt. Wenn du diese Zusammenarbei
 t verweigerst\, zerstörst du die Waffen\, die die Polizei gegen dich verw
 enden könnte.
CATEGORIES:Workshop, Lesekreis
LOCATION:Malobeo\, Kamenzer Str. 38\, Dresden\, Sachsen\, 01099\, Deutschla
 nd
X-APPLE-STRUCTURED-LOCATION;VALUE=URI;X-ADDRESS=Kamenzer Str. 38\, Dresden\
 , Sachsen\, 01099\, Deutschland;X-APPLE-RADIUS=100;X-TITLE=Malobeo:geo:0,0
END:VEVENT
BEGIN:VTIMEZONE
TZID:Europe/Berlin
X-LIC-LOCATION:Europe/Berlin
BEGIN:STANDARD
DTSTART:20231029T020000
TZOFFSETFROM:+0200
TZOFFSETTO:+0100
TZNAME:CET
END:STANDARD
END:VTIMEZONE
END:VCALENDAR