BEGIN:VCALENDAR
VERSION:2.0
PRODID:-//wp-events-plugin.com//7.2.3.1//EN
TZID:Europe/Berlin
X-WR-TIMEZONE:Europe/Berlin
BEGIN:VEVENT
UID:10761@terminal.digital
DTSTART;TZID=Europe/Berlin:20260502T110000
DTEND;TZID=Europe/Berlin:20260502T150000
DTSTAMP:20260401T075934Z
X-RECURS:FALSE
URL:https://terminal.digital/events/stillstand-am-wegesrand-road-side-repa
 irs-rasant/
SUMMARY:Stillstand am Wegesrand - Road Side Repairs Rasant
DESCRIPTION:Schonmal unterwegs eine Panne gehabt? Aber sicher doch.\n\nUnd 
 nun? Schieben\, Öffies benutzen oder die Eltern anrufen? Nöö... das lä
 sst sich reparieren.Wie? Zeigen wir dir!\n\nDie rasante Runde ist eine Koo
 peration mit dem Schleudergang e.V.\n\nDas Angebot richtet sich zuerst an 
 erwerbslose Menschen aus der Friedrichstadt\, dann an erwerbslose Menschen
  in ganz Dresden. Die restlichen freien Plätze werden frei vergeben.\n\nE
 ine Anmeldung für diesen Kurs ist notwendig und kann über unsere Homepag
 e passieren\, der Startpunkt wird den Teilnehmenden rechtzeitig mitgeteilt
 .
CATEGORIES:Sport,Workshop, Lesekreis
END:VEVENT
BEGIN:VTIMEZONE
TZID:Europe/Berlin
X-LIC-LOCATION:Europe/Berlin
BEGIN:DAYLIGHT
DTSTART:20260329T030000
TZOFFSETFROM:+0100
TZOFFSETTO:+0200
TZNAME:CEST
END:DAYLIGHT
END:VTIMEZONE
END:VCALENDAR