BEGIN:VCALENDAR
VERSION:2.0
PRODID:-//wp-events-plugin.com//7.2.3.1//EN
TZID:Europe/Berlin
X-WR-TIMEZONE:Europe/Berlin
BEGIN:VEVENT
UID:1291@terminal.digital
DTSTART;TZID=Europe/Berlin:20240317T180000
DTEND;TZID=Europe/Berlin:20240317T210000
DTSTAMP:20240304T173843Z
X-RECURS:FALSE
URL:https://terminal.digital/events/solidinner-veganes-3-gaenge-menue-gege
 n-repression-und-polizeiapparat/
SUMMARY:Solidinner: Veganes 3-Gänge Menü gegen Repression und Polizeiappa
 rat
DESCRIPTION:Wir laden euch im Rahmen der Aktionswoche um den internationale
 n Tag gegen Polizeigewalt herzlich zu unserem diesjährigen Soli-Dinner ei
 n. Mit den Spendeneinnahmen wollen wir Personen unterstützen\, die von Po
 lizeigewalt betroffen sind. Kommt vorbei\, bringt eure friends und family 
 mit\, verbringt mit uns einen schönen Abend und seid dabei solidarisch mi
 t Betroffenen von rassistischer Polizeigewalt in Deutschland.\n\nEuch erwa
 rtet ein leckeres veganes 3-Gänge Menü zwar ohne Weinbegleitung\, dafür
  aber unterfüttert mit Input zur Arbeit der Kooperation gegen Polizeigewa
 lt (KGP) und Vorstellung der von uns supporteten Fälle.\n\nDas alles gibt
 s am Sonntag den 17.03.2024 im AZ Conni (Rudolf-Leonhard-Straße 39)\nDie 
 Plätze sind begrenzt\, also seid pünktlich :)\n
ATTACH;FMTTYPE=image/jpeg:https://terminal.digital/wp-content/uploads/2024
 /03/solidinner700x700-jpg.webp
CATEGORIES:Küfa, Kneipe,Vortrag, Podium
LOCATION:AZ Conni\, Rudolf-Leonhard-Straße 39\, Dresden\, 01097\, Deutschl
 and
X-APPLE-STRUCTURED-LOCATION;VALUE=URI;X-ADDRESS=Rudolf-Leonhard-Straße 39\
 , Dresden\, 01097\, Deutschland;X-APPLE-RADIUS=100;X-TITLE=AZ Conni:geo:0,
 0
END:VEVENT
BEGIN:VTIMEZONE
TZID:Europe/Berlin
X-LIC-LOCATION:Europe/Berlin
BEGIN:STANDARD
DTSTART:20231029T020000
TZOFFSETFROM:+0200
TZOFFSETTO:+0100
TZNAME:CET
END:STANDARD
END:VTIMEZONE
END:VCALENDAR