BEGIN:VCALENDAR
VERSION:2.0
PRODID:-//wp-events-plugin.com//7.2.3.1//EN
TZID:Europe/Berlin
X-WR-TIMEZONE:Europe/Berlin
BEGIN:VEVENT
UID:10717@terminal.digital
DTSTART;TZID=Europe/Berlin:20260412T140000
DTEND;TZID=Europe/Berlin:20260412T220000
DTSTAMP:20260324T202632Z
X-RECURS:FALSE
URL:https://terminal.digital/events/soli-sonntagsrave-vol-ii/
SUMMARY:Soli-Sonntagsrave Vol. II
DESCRIPTION:Hey\, du? Auch noch im tiefen Winterschlaf? Zeit mit ordentlich
  Karacho in die Sommerzeit zu starten\, um gemeinsam den Winterblues die E
 lbe runterzuspülen. Endlich kommt unser Soli-Dayrave - Vol. II in eurem l
 iebsten Gartenlokal.\n\nIm Grunde bleibt alles beim alten: schnelle Musik\
 , Karaoke mit Klönschnack\, Beautysekt in rauen Mengen und als Bildungsan
 gebot einen Workshop zum Sektsäbeln. Für das leibliche Wohl sorgt die f
 ürstliche Küche des Fortschritts in veggie und vegan.\n\nUnd um bei all 
 dem Hedonismus nicht auch andere wichtige Themen aus dem Blick zu verliere
 n\, ist diesmal KosMOS (https://kosmos.medinetz-dresden.org/) mit dabei\, 
 die euch aus ihrer Praxis zur medizinischen Beratung für wohnungslose Men
 schen berichten können. Ein Teil eurer Eintrittsgelder geht direkt an ihr
 e Arbeit.\n\nAlso zieht euer schönstes Blumenhemd an\, sammelt eure beste
 n FreundInnen ein und wir sehen uns am 12. im Fortschritt.\n\n🎧 Disco\,
  House\, Trance\n✨ 8-12 Euro\n🔥 Karaoke und ganz viel Fun!
CATEGORIES:Party, Festival
LOCATION:Gartenlokal Fortschritt\, Bärnsdorfer Str. 2a\, Dresden\, 01097\,
  Deutschland
X-APPLE-STRUCTURED-LOCATION;VALUE=URI;X-ADDRESS=Bärnsdorfer Str. 2a\, Dres
 den\, 01097\, Deutschland;X-APPLE-RADIUS=100;X-TITLE=Gartenlokal Fortschri
 tt:geo:0,0
END:VEVENT
BEGIN:VTIMEZONE
TZID:Europe/Berlin
X-LIC-LOCATION:Europe/Berlin
BEGIN:DAYLIGHT
DTSTART:20260329T030000
TZOFFSETFROM:+0100
TZOFFSETTO:+0200
TZNAME:CEST
END:DAYLIGHT
END:VTIMEZONE
END:VCALENDAR