BEGIN:VCALENDAR
VERSION:2.0
PRODID:-//wp-events-plugin.com//7.2.3.1//EN
TZID:Europe/Berlin
X-WR-TIMEZONE:Europe/Berlin
BEGIN:VEVENT
UID:10756@terminal.digital
DTSTART;TZID=Europe/Berlin:20260401T180000
DTEND;TZID=Europe/Berlin:20260401T180000
DTSTAMP:20260330T190058Z
X-RECURS:FALSE
URL:https://terminal.digital/events/queer-pride-party-offenes-orga-plenum/
SUMMARY:Queer Pride Party - offenes Orga Plenum
DESCRIPTION:+++Wir suchen deine helfenden Hände+++\n\nWir stehen am Anfang
  der Planung für die diesjährige Party nach der Queer Pride\, wenn auch 
 du mithelfen möchtest diesen Tag fantastisch ausklingen zu lassen dann ko
 mmt doch gerne am\n\nwir update euch alle und dann gibt es bei Snacks und 
 Limo ein entspanntes Plenum.\n\nIhr braucht keine Vorerfahrung oder specia
 l Skills\, hauptsache ihr habt Bock eine gute Sache zu unterstützen.\n\nF
 alls du an diesem Tag nicht kannst aber trotzdem gerne dabei wärst schrei
 b uns doch gerne eine Email mit dem Betreff „Afterparty“ an: queerdd@p
 osteo.de\n\nMausige Grüße\nvon der Party-Orga
CATEGORIES:Offenes Treffen
LOCATION:AZ Conni\, Rudolf-Leonhard-Straße 39\, Dresden\, 01097\, Deutschl
 and
X-APPLE-STRUCTURED-LOCATION;VALUE=URI;X-ADDRESS=Rudolf-Leonhard-Straße 39\
 , Dresden\, 01097\, Deutschland;X-APPLE-RADIUS=100;X-TITLE=AZ Conni:geo:0,
 0
END:VEVENT
BEGIN:VTIMEZONE
TZID:Europe/Berlin
X-LIC-LOCATION:Europe/Berlin
BEGIN:DAYLIGHT
DTSTART:20260329T030000
TZOFFSETFROM:+0100
TZOFFSETTO:+0200
TZNAME:CEST
END:DAYLIGHT
END:VTIMEZONE
END:VCALENDAR