BEGIN:VCALENDAR
VERSION:2.0
PRODID:-//wp-events-plugin.com//7.2.3.1//EN
TZID:Europe/Berlin
X-WR-TIMEZONE:Europe/Berlin
BEGIN:VEVENT
UID:10807@terminal.digital
DTSTART;TZID=Europe/Berlin:20260429T190000
DTEND;TZID=Europe/Berlin:20260429T210000
DTSTAMP:20260414T170325Z
X-RECURS:FALSE
URL:https://terminal.digital/events/postmodern-links-ein-appell-an-systema
 tik-und-selbstreflexion-ein-vortrag-von-ilse-bindseil/
SUMMARY:Postmodern links – Ein Appell an Systematik und Selbstreflexion
DESCRIPTION:Ein Vortrag von Ilse Bindseil\nDass links wie alle anderen gese
 llschaftlichen Erscheinungen dem Zeitgeist unterworfen ist\, wird in einer
  Art Retrospektive\, auch einer persönlichen Aufarbeitung gezeigt\, dass 
 links sich an einem Gesamtbegriff von Gesellschaft bewähren muss\, in ein
 er abstrakten Überlegung verdeutlicht.\n\nErgänzung: Zur Frage\, wie es 
 heute mit „links“ steht\, könnten sich andere und ungleich kompetente
 r äußern. Ich verstehe die Frage an mich\, die ich keine ausgewiesene\, 
 eher eine aus den kritisch-theoretischen 68ern übriggebliebene Linke bin\
 , so: Was kann ich beitragen zu einer Bestimmung von links?\n\nBeitragen k
 ann ich\, erstens\, etwas zum gedanklichen Hintergrund von links. Um einen
  tragenden\, auch einen schlagkräftigen Begriff\, ein Programm mit ihm ve
 rbinden zu können\, muss er auf Voraussetzungen fußen\, über die ich mi
 r als einen vitalen Teil meiner Überzeugung klarwerden muss. Sich die Exi
 stenz solcher Voraussetzungen bewusst zu machen\, den Austausch über sie 
 und mit ihnen zu pflegen\, dazu sollen meine Überlegungen einladen. Dass 
 es sich dabei um alles andere als um „graue Theorie“ handelt\, davon s
 ollen sie hoffentlich überzeugen.\n\nBeitragen kann ich\, zweitens\, etwa
 s zum kurzen Abschnitt meiner Geschichte mit „links“. Da für mich Wah
 rheit nur in der Form – deutlicher: im Verlauf − der Auflösung falsch
 er Vorstellungen existiert\, kann ich den von mir erlebten Abschnitt linke
 r Geschichte nur als eine Geschichte weniger von Irrtümern und Lügen als
  vielmehr von geborgten Verkörperungen erzählen. Als „genuin links“ 
 bleibt dabei eigentlich nur die Haltung rigoroser Selbstkritik und\, auf d
 er affirmativen Seite\, das Vertrauen in „links“ als ein dem Kantische
 n „Geschichtszeichen“ analoges „Begriffszeichen“ übrig\, das mich
  auf dem rechten Weg hält.
ATTACH;FMTTYPE=image/jpeg:https://terminal.digital/wp-content/uploads/2026
 /04/b1_resized.avif
CATEGORIES:Vortrag, Podium
LOCATION:disputhek\, Leipziger Straße 84\, Dresden\, 01127\, Deutschland
X-APPLE-STRUCTURED-LOCATION;VALUE=URI;X-ADDRESS=Leipziger Straße 84\, Dres
 den\, 01127\, Deutschland;X-APPLE-RADIUS=100;X-TITLE=disputhek:geo:0,0
END:VEVENT
BEGIN:VTIMEZONE
TZID:Europe/Berlin
X-LIC-LOCATION:Europe/Berlin
BEGIN:DAYLIGHT
DTSTART:20260329T030000
TZOFFSETFROM:+0100
TZOFFSETTO:+0200
TZNAME:CEST
END:DAYLIGHT
END:VTIMEZONE
END:VCALENDAR