BEGIN:VCALENDAR
VERSION:2.0
PRODID:-//wp-events-plugin.com//7.2.3.1//EN
TZID:Europe/Berlin
X-WR-TIMEZONE:Europe/Berlin
BEGIN:VEVENT
UID:10730@terminal.digital
DTSTART;TZID=Europe/Berlin:20260422T193000
DTEND;TZID=Europe/Berlin:20260422T193000
DTSTAMP:20260330T183704Z
X-RECURS:FALSE
URL:https://terminal.digital/events/politkino-of-fame-kein-land-fuer-niema
 nd-abschottung-eines-einwanderungslandes/
SUMMARY:PolitKino of Fame: Kein Land für Niemand - Abschottung eines Einwa
 nderungslandes
DESCRIPTION:Doku\, Deutschland 2025\, 107 Min.\,  FSK 12\, Regie: Max Ahre
 ns und Maik Lüdemann\nFreiwilliger Kulturbeitrag erbeten*\n\n\nAb Februar
  startet die neue Filmreihe im Hole of Fame: Das PolitKino of Fame\, in K
 ooperation mit der Drop-Out Cinema eG. Gemeinsam wollen wir uns einmal im 
 Monat gesellschaftskritische Filme und Dokus anschauen und dadurch Gesprä
 che und Austausch zu den jeweiligen Themen anregen.\n\n\nEuropa zieht die 
 Mauern hoch – mitten in einer humanitären Katastrophe. Der Dokumentarfi
 lm „Kein Land für Niemand – Abschottung eines Einwanderungslandes“ 
 beleuchtet die drastischen Folgen der europäischen Abschottungspolitik un
 d die Rolle Deutschlands in diesem Paradigmenwechsel.\n\nDie Dokumentation
  „Kein Land für Niemand” begleitet eine Rettungsmission im Mittelmeer
 \, zeigt die katastrophalen Zustände in Lagern für Geflüchtete und gibt
  Menschen eine Stimme\, die den lebensgefährlichen Weg nach Europa überl
 ebt haben. Gleichzeitig blickt der Film auf die politische und gesellschaf
 tliche Entwicklung in Deutschland: Ein erstarkender Rechtspopulismus präg
 t den Diskurs. Flucht und Migration werden zunehmend kriminalisiert\, und 
 humanitäre Hilfe gerät unter Druck.\n\nDeutschland gibt hier immer wiede
 r den Takt vor und Europa zieht nach. Durch exklusive Interviews mit Wisse
 nschaftler*innen\, politischen Entscheidungsträger*innen und Aktivist*inn
 en hinterfragt „Kein Land für Niemand“ die aktuellen Narrative über 
 Flucht und Migration und beleuchtet dieMechanismen\, mit denen Angst und P
 opulismus die politische Agenda bestimmen. Wie konnte es so weit kommen? U
 nd welche Alternativen gibt es zu einem Europa\, das sich immer weiter abs
 chottet?\n\n*PolitKino ist ein Format der Drop-Out Cinema eG. Die eingenom
 menen Kulturbeiträge gehen zu 100% an die Drop-Out Cinema zur Deckung der
  Filmlizenzkosten\n\nWeitere Termine des PolitKino of Fame\n22.02. Hao ar
 e you\n29.03. Im Osten was Neues
CATEGORIES:Film, Theater
LOCATION:Hole of Fame\, Königsbrücker Straße 39\, Dresden\, 01099\, Deut
 schland
X-APPLE-STRUCTURED-LOCATION;VALUE=URI;X-ADDRESS=Königsbrücker Straße 39\
 , Dresden\, 01099\, Deutschland;X-APPLE-RADIUS=100;X-TITLE=Hole of Fame:ge
 o:0,0
END:VEVENT
BEGIN:VTIMEZONE
TZID:Europe/Berlin
X-LIC-LOCATION:Europe/Berlin
BEGIN:DAYLIGHT
DTSTART:20260329T030000
TZOFFSETFROM:+0100
TZOFFSETTO:+0200
TZNAME:CEST
END:DAYLIGHT
END:VTIMEZONE
END:VCALENDAR