BEGIN:VCALENDAR
VERSION:2.0
PRODID:-//wp-events-plugin.com//7.2.3.1//EN
TZID:Europe/Berlin
X-WR-TIMEZONE:Europe/Berlin
BEGIN:VEVENT
UID:10723@terminal.digital
DTSTART;TZID=Europe/Berlin:20260420T183000
DTEND;TZID=Europe/Berlin:20260420T233000
DTSTAMP:20260326T192734Z
X-RECURS:FALSE
URL:https://terminal.digital/events/pitch-your-friend-at-queer-monday/
SUMMARY:Pitch your friend at Queer Monday
DESCRIPTION:✨ PITCH YOUR FRIEND ✨\n\nDu hast eine tolle Person im Freun
 d*innenkreis und denkst dir: Warum ist sie eigentlich noch nicht vergeben 
 / vernetzt / verplant fürs nächste Wochenende?\nDann ist jetzt dein Mome
 nt: ➡️ Stell uns deine Lieblingsperson vor!\n\nStell uns deine Freund*
 in anhand von Slides\, Bildern oder Videos vor – egal ob für Dates\, ne
 ue Freundschaften\, gemeinsame Aktivitäten oder als Reise-Buddy.\n\n⏱
 ️ 3-5 Minuten pro Pitch\n📊 Slides\, Videos\, Bilder?\n\nSchick uns de
 in Dateien bis zum 19.04. an queermonday@proton.me\n\nUnd danach: Karaoke 
 🎶\nWeil nichts mehr verbindet als gemeinsam singen!\n\nWir freuen uns a
 uf euch! 🫰\n\n__________________________________\n\n✨ PITCH YOUR FRIE
 ND ✨\n\nDo you have an amazing friend and you're wondering: Why aren't t
 hey dating/connected/booked for next weekend?\n\nNow‘s your chance: ➡
 ️ Introduce your favorite friend to us!\n\nPresent your friend with slid
 es\, pictures\, or videos – whether for dates\, new friendships\, shared
  activities\, or as a travel buddy.\n\n⏱️ 3-5 minutes per pitch\n📊 
 Slides\, videos\, pictures?\n\nSend your files by April 19th to queermonda
 y@proton.me\n\nAnd afterwards: Karaoke 🎶\nBecause nothing brings people
  together like singing!\n\nWe're looking forward to seeing you! 🫰
ATTACH;FMTTYPE=image/jpeg:https://terminal.digital/wp-content/uploads/2026
 /03/26281_resized.avif
CATEGORIES:Party, Festival
LOCATION:Ostpol\, Königsbrücker Strasse 47 \, Dresden\, 01099\, Deutschla
 nd
X-APPLE-STRUCTURED-LOCATION;VALUE=URI;X-ADDRESS=Königsbrücker Strasse 47 
 \, Dresden\, 01099\, Deutschland;X-APPLE-RADIUS=100;X-TITLE=Ostpol:geo:0,0
END:VEVENT
BEGIN:VTIMEZONE
TZID:Europe/Berlin
X-LIC-LOCATION:Europe/Berlin
BEGIN:DAYLIGHT
DTSTART:20260329T030000
TZOFFSETFROM:+0100
TZOFFSETTO:+0200
TZNAME:CEST
END:DAYLIGHT
END:VTIMEZONE
END:VCALENDAR