BEGIN:VCALENDAR
VERSION:2.0
PRODID:-//wp-events-plugin.com//7.2.3.1//EN
TZID:Europe/Berlin
X-WR-TIMEZONE:Europe/Berlin
BEGIN:VEVENT
UID:10757@terminal.digital
DTSTART;TZID=Europe/Berlin:20260426T130000
DTEND;TZID=Europe/Berlin:20260426T180000
DTSTAMP:20260330T190534Z
X-RECURS:FALSE
URL:https://terminal.digital/events/pieschner-hinterhof-flohmarkt/
SUMMARY:Pieschner Hinterhof Flohmarkt
DESCRIPTION:in mehreren Hinterhöfen in Pieschen
CATEGORIES:Flohmarkt, Tauschbörse
END:VEVENT
BEGIN:VTIMEZONE
TZID:Europe/Berlin
X-LIC-LOCATION:Europe/Berlin
BEGIN:DAYLIGHT
DTSTART:20260329T030000
TZOFFSETFROM:+0100
TZOFFSETTO:+0200
TZNAME:CEST
END:DAYLIGHT
END:VTIMEZONE
END:VCALENDAR