BEGIN:VCALENDAR
VERSION:2.0
PRODID:-//wp-events-plugin.com//7.2.3.1//EN
TZID:Europe/Berlin
X-WR-TIMEZONE:Europe/Berlin
BEGIN:VEVENT
UID:8797@terminal.digital
DTSTART;TZID=Europe/Berlin:20250609T180000
DTEND;TZID=Europe/Berlin:20250609T200000
DTSTAMP:20250606T193142Z
X-RECURS:FALSE
URL:https://terminal.digital/events/offenes-treffen-zu-majas-hungerstreik/
SUMMARY:Offenes Treffen zu Majas Hungerstreik
DESCRIPTION:\n\nSeit Mittwoch\, dem 5. Juni 2025 ist Maja im Hungerstreik g
 egen die unerträglichen Haftbedingungen im ungarischen Gefängnis.\n\nIso
 lation\, Ungeziefer und Gewalt prägen den Haftalltag. Parallel findet der
  Schauprozess vor dem Budapester Stadtgericht statt. An Maja wird ein Exem
 pel statuiert.\n\nDer Hungerstreik ist ein drastisches Mittel und gefährd
 et unmittelbar Majas Gesundheit. Das heißt wir haben wenig Zeit um zu han
 deln.\n\nWas können wir tun? \nAufmerksamkeit und Druck erzeugen! Politik
 er*innen ansprechen und Proteste organisieren! Um das für die nächsten W
 ochen in Dresden zu organisieren\, machen wir ein offenes Treffen.\nKommt 
 alle am Montag\, 09.06.2025 um 18 Uhr in den Seminarraum des Colorado (Zen
 tralwerk\, Risaer Straße 32)!\n\n\n______________________________________
 ______________________\n\n\nSince Wednesday\, June 5\, Maja has been on hu
 nger strike against the intolerable conditions in a Hungarian prison.\n\nI
 solation\, vermin\, and violence characterize Majas daily life in prison. 
 At the same time\, a show trial is taking place before the Budapest City C
 ourt. Maja is being made an example of.\n\nThe hunger strike is a drastic 
 measure and poses an immediate threat to Maja’s health. This means we ha
 ve little time to act.\n\nWhat can we do? \nRaise awareness and apply pres
 sure! Contact politicians and organize protests!\nTo organize this in Dres
 den over the next few weeks\, we are holding an open meeting.\n Come to th
 e seminar room at Coloradio (Zentralwerk\, Risaer Straße 32) on Monday Ju
 ne 9\, 2025\, at 6 p.m.!\n\n
CATEGORIES:Offenes Treffen
LOCATION:Seminarraum Coloradio\, Risaer Straße 32\, Dresden\, 01127\, Deut
 schland
X-APPLE-STRUCTURED-LOCATION;VALUE=URI;X-ADDRESS=Risaer Straße 32\, Dresden
 \, 01127\, Deutschland;X-APPLE-RADIUS=100;X-TITLE=Seminarraum Coloradio:ge
 o:0,0
END:VEVENT
BEGIN:VTIMEZONE
TZID:Europe/Berlin
X-LIC-LOCATION:Europe/Berlin
BEGIN:DAYLIGHT
DTSTART:20250330T030000
TZOFFSETFROM:+0100
TZOFFSETTO:+0200
TZNAME:CEST
END:DAYLIGHT
END:VTIMEZONE
END:VCALENDAR