BEGIN:VCALENDAR
VERSION:2.0
PRODID:-//wp-events-plugin.com//7.2.3.1//EN
TZID:Europe/Berlin
X-WR-TIMEZONE:Europe/Berlin
BEGIN:VEVENT
UID:10810@terminal.digital
DTSTART;TZID=Europe/Berlin:20260427T170000
DTEND;TZID=Europe/Berlin:20260427T200000
DTSTAMP:20260416T190341Z
X-RECURS:FALSE
URL:https://terminal.digital/events/offener-jugendtreff-2/
SUMMARY:Offener Jugendtreff
DESCRIPTION:Banner malen für den 1. Mai*\n\n*Arbeit\, Arbeit\, Arbeit?\nWi
 r wollen mehr vom Leben!\nAlso kommt zahlreich zur anarchistischen Demonst
 ration am 1. Mai!\n\nMehr Infos unter: https://dd.fau.org/2026/04/14/arbei
 t-arbeit-arbeit-wir-wollen-mehr-vom-leben/#more-4347\n\n\n\n
ATTACH;FMTTYPE=image/jpeg:https://terminal.digital/wp-content/uploads/2026
 /04/1000062362_resized.avif
CATEGORIES:Offenes Treffen
LOCATION:Gewerkschaftslokal der FAU Dresden\, Bürgerstraße 52\, Dresden\,
  01127\, Deutschland
X-APPLE-STRUCTURED-LOCATION;VALUE=URI;X-ADDRESS=Bürgerstraße 52\, Dresden
 \, 01127\, Deutschland;X-APPLE-RADIUS=100;X-TITLE=Gewerkschaftslokal der F
 AU Dresden:geo:0,0
END:VEVENT
BEGIN:VTIMEZONE
TZID:Europe/Berlin
X-LIC-LOCATION:Europe/Berlin
BEGIN:DAYLIGHT
DTSTART:20260329T030000
TZOFFSETFROM:+0100
TZOFFSETTO:+0200
TZNAME:CEST
END:DAYLIGHT
END:VTIMEZONE
END:VCALENDAR