BEGIN:VCALENDAR
VERSION:2.0
PRODID:-//wp-events-plugin.com//7.2.3.1//EN
TZID:Europe/Berlin
X-WR-TIMEZONE:Europe/Berlin
BEGIN:VEVENT
UID:10821@terminal.digital
DTSTART;TZID=Europe/Berlin:20260428T190000
DTEND;TZID=Europe/Berlin:20260428T190000
DTSTAMP:20260420T105519Z
X-RECURS:FALSE
URL:https://terminal.digital/events/narzissmus-und-selbstaufgabe-im-bildun
 gsprozess-verfuegen-mitreden-bescheidwissen-dazugehoeren/
SUMMARY:Narzissmus und Selbstaufgabe im Bildungsprozess. Verfügen\, Mitred
 en\, Bescheidwissen\, Dazugehören
DESCRIPTION:Es mag verwundern\, dass sich besonders an Universitäten\, den
  höchsten Bildungsinstitutionen einer Gesellschaft\, ein gewisses Unbehag
 en über Bildung breit macht. Einerseits bewegt sich diese Ahnung zwischen
  den schon bekannten Gegensatz der Nützlichkeit und Nutzlosigkeit der Bil
 dung und andererseits gerät Aufklärung immer mehr in Verdacht\, nur ein 
 westliches\, imperialistisches Projekt gewesen zu sein. Das ist nicht nur 
 ein äußerlicher Angriff. Der große aufklärerische Traum\, dass Bildung
  das Individuum erhebt\, Menschheit verwirklicht\, ist jäh zerbrochen\, a
 ls sie die nationalsozialistische Barbarei nicht behindern konnte\, ja sie
  sogar gefördert hat. Auch heute scheint Bildung bestehende Ressentiments
  nicht zu stürzen\, sondern nur zu verfeinern\, ihnen eine gesellschaftli
 ch anerkannte Form zu geben oder sich weihevoll als rebellisch zu inszenie
 ren. Sowohl bei einer immer mehr anwachsenden wissenschaftlichen Apparatur
  als auch beim davon ununterscheidbar gewordenen politischen Aktivismus wi
 rd vom Individuum eine Opferbereitschaft abverlangt\, die das Ideal der Bi
 ldung zu verwirklichen scheint und zugleich zerstört. Zusammenhangslose S
 tudieninhalte\, Bulimie-Lernen\, KI\, Drittmittelabhängigkeit und Dauermo
 bilisierung zeugen davon. Es drängt sich auf: Was hat solche Bildung mit 
 mir zu tun? Und wer bin ich\, dass sich mir diese Frage so aufdrängt\, so
 dass ich entweder die Ratlosigkeit oder die zu offensichtliche Antwort ver
 drängen muss\, um weiter funktionieren zu können? Die kritische Theorie 
 hat diesen Verfall von moderner Bildung\, der immer schon in ihr angelegt 
 war\, mit dem Begriff der Halbbildung zu fassen versucht. Im Vortag und de
 r Diskussion wollen wir diesen Begriff und seine Beziehung zur gegenwärti
 gen Gesellschaft rekonstruieren.\n\n„Das Halbverstandene und Halberfahre
 ne ist nicht die Vorstufe der Bildung sondern ihr Todfeind: Bildungselemen
 te\, die ins Bewußtsein geraten\, ohne in dessen Kontinuität eingeschmol
 zen zu werden\, verwandeln sich in böse Giftstoffe\, tendenziell in Aberg
 lauben\, selbst wenn sie an sich den Aberglauben kritisieren.“ (Adorno\,
  Theorie der Halbbildung)
ATTACH;FMTTYPE=image/jpeg:https://terminal.digital/wp-content/uploads/2026
 /04/refpob-2026-04-20-10.40.55.avif
CATEGORIES:Vortrag, Podium
LOCATION:HSZ/E05/U\, Bergstr. 64\, Dresden\, 01069\, Deutschland
X-APPLE-STRUCTURED-LOCATION;VALUE=URI;X-ADDRESS=Bergstr. 64\, Dresden\, 010
 69\, Deutschland;X-APPLE-RADIUS=100;X-TITLE=HSZ/E05/U:geo:0,0
END:VEVENT
BEGIN:VTIMEZONE
TZID:Europe/Berlin
X-LIC-LOCATION:Europe/Berlin
BEGIN:DAYLIGHT
DTSTART:20260329T030000
TZOFFSETFROM:+0100
TZOFFSETTO:+0200
TZNAME:CEST
END:DAYLIGHT
END:VTIMEZONE
END:VCALENDAR