BEGIN:VCALENDAR
VERSION:2.0
PRODID:-//wp-events-plugin.com//7.2.3.1//EN
TZID:Europe/Berlin
X-WR-TIMEZONE:Europe/Berlin
BEGIN:VEVENT
UID:10834@terminal.digital
DTSTART;TZID=Europe/Berlin:20260426T150000
DTEND;TZID=Europe/Berlin:20260426T210000
DTSTAMP:20260423T134843Z
X-RECURS:FALSE
URL:https://terminal.digital/events/lesekreis-historischer-blick-auf-tierv
 ersuche-offenes-treffen-mit-kuefa/
SUMMARY:Lesekreis: Historischer Blick auf Tierversuche + Offenes Treffen mi
 t Küfa
DESCRIPTION:Es ist wieder soweit! Wir laden euch herzlich zu unserem Lesekr
 eis im April und zur Küfa/Offenes Treffen/Schilder malen für den anarchi
 stischen 1. Mai ein.\n\n 	Sonntag\, 26. April 2026\n 	ab 15 Uhr Lesekreis\
 n 	ab 18 Uhr KüfA und Offenes Treffen / Schilder malen für den anarchist
 ischen 1. Mai\n 	Malobeo (Kamenzer Str. 38\, 01099 Dresden)\n\nAm 24. Apri
 l ist der Internationale Tag zur Abschaffung der Tierversuche. Der Tag sol
 l genutzt werden\, um auf das Thema Tierversuche aufmerksam zu machen und 
 die damit verbundene Gewalt gegen Millionen andere Tieren aufzuzeigen\, di
 e jährlich weltweit für wissenschaftliche Zwecke ausgebeutet\, gefoltert
  und ermordet werden. In unserem Lesekreis schauen wir in die Geschichte u
 nd in die Gegenwart.\n\nWas haben Frauenwahlrechtler*innen (Suffragetten) 
 und Tierversuchsgegner*innen (Antivivisektionsaktivist*innen) gemeinsam? W
 arum kam es Anfang des 19. Jahrhunderts in London zu Straßenschlachten zw
 ischen Suffragetten\, Tierversuchsgegner*innen\, Medizinstudierenden und d
 er Polizei? Und warum stand eine Hundestatue im Mittelpunkt dieser Auseina
 ndersetzungen?\n\nWir lesen verschiedene historische Texte\, werfen dabei 
 auch einen Blick nach Deutschland und spüren nach inwieweit sich der Kamp
 f gegen Tierversuche im heutigen Aktivismus widerspiegelt.\n\nBeim anknüp
 fenden Offenen Treffen könnt ihr euch auf eine leckere KüfA freuen und d
 ieses mal werden wir gemeinsam Schilder für den anarchistischen 1. Mai ma
 len.\n\nDas Malobeo verfügt über eine mobile Rollstuhlrampe. Das WC ist 
 nicht barrierearm und auch nicht mit einem Rollstuhl befahrbar.\n\nHybridv
 eranstaltung:\nDieser Lesekreis wird wieder im Malobeo stattfinden. Falls 
 ihr online dabei sein wollt\, meldet euch bitte per DM oder unter tierbefr
 eiung_dd@riseup.net. Dann schicken wir euch den Text als .pdf sowie die Ei
 nwahldaten für den Telko-Raum zu.\n\nMore than Words:\nIn regelmäßigen 
 Lesekreisen wollen wir uns mit Büchern\, Aufsätzen\, Texten und Schrifte
 n zum Mensch-Tier-Verhältnis beschäftigen. Wir möchten sowohl Geschicht
 e als auch aktuelle Diskussionen aufgreifen\, gemeinsam mit euch lesen und
  in entspannter Atmosphäre mit euch durchdenken. Es ist nicht notwendig d
 en Text im Vorfeld zu lesen. Dafür nehmen wir uns während des Lesekreise
 s Zeit. Wer aber vorher schon lesen möchte\, kann dies gern tun. Außerde
 m wird es Kuchen\, Kaffee und Tee geben. Unsere Lesekreise sind einsteiger
 *innenfreundlich gestaltet und es sind keine besonderen Vorkenntnisse nöt
 ig. Der Lesekreis soll auch dazu genutzt werden\, um uns besser kennenzule
 rnen und sich gegenseitig auszutauschen. Wenn du Lust hast mitzumachen ode
 r dir den Lesekreis einfach mal angucken möchtest\, komm gerne vorbei.\n\
 nWir freuen uns auf euch!\n\nHinweis:\nWir wollen uns in einer Atmosphäre
  treffen\, in der sich jede*r wohlfühlt. Diskriminierendes und übergriff
 iges Verhalten wird von uns nicht geduldet.
ATTACH;FMTTYPE=image/jpeg:https://terminal.digital/wp-content/uploads/2026
 /04/morethanwords.cleaned1.avif
CATEGORIES:Küfa, Kneipe,Offenes Treffen,Workshop, Lesekreis
LOCATION:Malobeo\, Kamenzer Str. 38\, Dresden\, Sachsen\, 01099\, Deutschla
 nd
X-APPLE-STRUCTURED-LOCATION;VALUE=URI;X-ADDRESS=Kamenzer Str. 38\, Dresden\
 , Sachsen\, 01099\, Deutschland;X-APPLE-RADIUS=100;X-TITLE=Malobeo:geo:0,0
END:VEVENT
BEGIN:VTIMEZONE
TZID:Europe/Berlin
X-LIC-LOCATION:Europe/Berlin
BEGIN:DAYLIGHT
DTSTART:20260329T030000
TZOFFSETFROM:+0100
TZOFFSETTO:+0200
TZNAME:CEST
END:DAYLIGHT
END:VTIMEZONE
END:VCALENDAR