BEGIN:VCALENDAR
VERSION:2.0
PRODID:-//wp-events-plugin.com//7.2.3.1//EN
TZID:Europe/Berlin
X-WR-TIMEZONE:Europe/Berlin
BEGIN:VEVENT
UID:10698@terminal.digital
DTSTART;TZID=Europe/Berlin;VALUE=DATE:20260416
DTEND;TZID=Europe/Berlin;VALUE=DATE:20260502
DTSTAMP:20260401T140219Z
X-RECURS:FALSE
URL:https://terminal.digital/events/hidden-nobody-knows/
SUMMARY:Ausstellung: Hidden (Nobody Knows)
DESCRIPTION:\n\nHidden (Nobody Knows)\nFotografien von Shih Yun Chien (Taiw
 an)\nthrough7.wordpress.com\ninstagram.com/juliefallsleep\n\nMit Hidden (
 Nobody Knows) zeigt die taiwanische Künstlerin Shih Yun Chien – Abso
 lventin der Prager Akademie der Darstellenden Künste – eine Auswahl ihr
 er Werke aus den Jahren 2022 bis 2025. Die Ausstellung ist ein visueller D
 ialog über die Stadt\, die Furcht und jene inneren Landschaften\, in dene
 n wir uns bewegen.\n\n\n\n\nGeprägt von ihrer Herkunft aus Taiwan\, einer
  Insel der Wärme\, erlebte Shih Yun Chien in der Fremde Prags eine psycho
 logische Distanz\, die sich kaum in Worte fassen ließ. Mit der Zeit verwa
 ndelte sich dieses Gefühl der Entfremdung in eine ganz eigene Beobachtung
 sgabe.\n\n\n\n\nDen Kern ihrer Arbeit bildet die intime Frage: „Wovor ha
 st du Angst?“ In Interviews mit Prager Bürgern fing sie deren Geschicht
 en ein und übersetzte sie in Bilder – die Kamera wurde dabei zum Speich
 er für Gefühle und Erinnerungen. Die Motive oszillieren zwischen bewusst
 er Komposition und glücklichem Zufall\; mal wirken sie wie eine stille Pe
 rformance\, mal wie ein flüchtiger Augenblick. In ihrer Fragilität offen
 baren sie einen tiefen\, ehrlichen Blick auf das Innere.\n\n\nDas Projekt 
 gliedert sich in zwei Kapitel:\n\n 	„Hidden“ beleuchtet die seelische
  Verfassung der jungen Generation in Prag. Die vorwiegend schwarz-weißen 
 Arbeiten werden durch ein Farbbild und eine persönliche Erzählung ergän
 zt\, um die emotionalen Linien der heutigen Jugend sichtbar zu machen.\n 	
 „Nobody Knows“ führt nach Žižkov\, ein Viertel\, dessen Charakter 
 bis heute von seiner Arbeitergeschichte und dem Sozialismus geprägt ist. 
 Die Aufnahmen von Straßen und Plätzen machen das Verstreichen der Zeit u
 nd das Erbe der Geschichte spürbar. Die Erzählungen einer älteren Anwoh
 nerin lassen dabei Gestern und Heute miteinander verschmelzen.\n\n\n\nHidd
 en (Nobody Knows) bietet keine fertigen Antworten. Es ist eine Einladung\
 , in den Zwischenräumen der Bilder zu verweilen und nachzuspüren\, wie I
 dentität und Erinnerung das Stadtbild prägen – und wie untrennbar unse
 re innere Welt mit dem realen Erleben verbunden ist.\n\n\nVernissage: 16.
 04.2026 | 19:00 Uhr\nAusstellung vom 17.04.2026 - 01.05.2026\nÖffnungsze
 iten: Mittwoch  Freitag 17:00-20:00 Uhr\n
CATEGORIES:Ausstellung, Performance
LOCATION:Hole of Fame\, Königsbrücker Straße 39\, Dresden\, 01099\, Deut
 schland
X-APPLE-STRUCTURED-LOCATION;VALUE=URI;X-ADDRESS=Königsbrücker Straße 39\
 , Dresden\, 01099\, Deutschland;X-APPLE-RADIUS=100;X-TITLE=Hole of Fame:ge
 o:0,0
END:VEVENT
BEGIN:VTIMEZONE
TZID:Europe/Berlin
X-LIC-LOCATION:Europe/Berlin
BEGIN:DAYLIGHT
DTSTART:20260329T030000
TZOFFSETFROM:+0100
TZOFFSETTO:+0200
TZNAME:CEST
END:DAYLIGHT
END:VTIMEZONE
END:VCALENDAR