BEGIN:VCALENDAR
VERSION:2.0
PRODID:-//wp-events-plugin.com//7.2.3.1//EN
TZID:Europe/Berlin
X-WR-TIMEZONE:Europe/Berlin
BEGIN:VEVENT
UID:10823@terminal.digital
DTSTART;TZID=Europe/Berlin:20260428T180000
DTEND;TZID=Europe/Berlin:20260428T180000
DTSTAMP:20260420T110403Z
X-RECURS:FALSE
URL:https://terminal.digital/events/elon-musk-big-tech-und-digitaler-fasch
 ismus/
SUMMARY:Elon Musk\, Big Tech und Digitaler Faschismus
DESCRIPTION:Während wir global den Rückgang von Freiheit und Demokratie e
 rleben\, bleibt es wichtig\, die Strukturen\, Faktoren und Akteure zu bene
 nnen\, die die treibenden Kräfte und Profiteure dieser Entwicklung sind. 
 Eine Struktur\, die in diesem Zusammenhang besonders kritisch untersucht w
 erden sollte\, ist der Nexus aus Technologiekapital\, Rechtspopulismus und
  Digitalem Faschismus\, der u. a. von Elon Musk\, seinem Technologie- und 
 Firmenimperium sowie seinem globalen Netzwerk repräsentiert wird. In der 
 Veranstaltung wird nicht nur das Konzept des Digitalen Faschismus diskutie
 rt\, sondern dieses zugleich an die Strukturen und Handlungsweisen von Elo
 n Musk\, während seiner DOGE-Zeit im Frühjahr 2025\, zurückgebunden.\n\
 nTelegram-Kanal der Rosa-Luxemburg-Stiftung Sachsen: https://t.me/rosaluxe
 mburgstiftungsachsen\n\n
CATEGORIES:Vortrag, Podium
LOCATION:https://www.rosalux.de/veranstaltung/es_detail/F3XX5/elon-musk-big
 -tech-und-digitaler-faschismus
END:VEVENT
BEGIN:VTIMEZONE
TZID:Europe/Berlin
X-LIC-LOCATION:Europe/Berlin
BEGIN:DAYLIGHT
DTSTART:20260329T030000
TZOFFSETFROM:+0100
TZOFFSETTO:+0200
TZNAME:CEST
END:DAYLIGHT
END:VTIMEZONE
END:VCALENDAR