BEGIN:VCALENDAR
VERSION:2.0
PRODID:-//wp-events-plugin.com//7.2.3.1//EN
TZID:Europe/Berlin
X-WR-TIMEZONE:Europe/Berlin
BEGIN:VEVENT
UID:10706@terminal.digital
DTSTART;TZID=Europe/Berlin:20260430T130000
DTEND;TZID=Europe/Berlin:20260430T153000
DTSTAMP:20260322T152821Z
X-RECURS:FALSE
URL:https://terminal.digital/events/categories-as-social-practice-and-the-
 value-form-of-experience-ein-seminar-von-franz-heilgendorff-2026-03-26-202
 6-04-30/
SUMMARY:Categories as Social Practice and the Value-Form of Experience | Ei
 n Seminar von Franz Heilgendorff
DESCRIPTION:Für Kant ist das transzendentale Subjekt die formale Bedingung
  der Einheit der Erfahrung. Gesellschaftlich entspricht es der Wertform\, 
 die uns zwingt\, die Welt in identifizierender und abstrahierender Weise z
 u synthetisieren. In der Kritischen Theorie wurden die Kategorien der Logi
 k und Metaphysik daher als verdinglichte soziale Beziehungen kritisiert: D
 ie dem erkennenden Subjekt zugeschriebene Abstraktion sei bereits real\, i
 m Voraus innerhalb der Tauschgesellschaft vollzogen und der soziale Gehalt
  abstrakt-logischer Kategorien erkenn- wie kritisierbar.\n\nAber wie läss
 t sich die Einsicht\, dass Kategorien sedimentierte soziale Praxis sind\, 
 in ein empirisches Forschungsdesign übersetzen? Es scheint\, Kategorien w
 erden dort sichtbar\, wo sie „arbeiten“: wo sie scheitern\, repariert 
 werden müssen oder ihre Rahmen gesprengt werden. Wie handhaben Subjekte i
 n sozialen Bewegungen oder im Produktionsprozess abstrakte Kategorien wie 
 Identität\, Kausalität oder Zeit und wie werden diese dabei transformier
 t? Welchen kategorialen Zwängen unterliegen wir\, um überhaupt als Subje
 kte handlungsfähig zu sein? Und lassen sich die Kategorien der Philosophi
 e überhaupt nach „unten“ öffnen\, so dass darin eigene Erfahrungen a
 rtikuliert werden könnten?\n\nWährend die gesellschaftliche Produktion u
 nd der Markt beispielsweise eine lineare\, quantifizierbare Zeit erzwingen
 \, entstehen qualitative Zeiterfahrungen in den Sphären der Reproduktion 
 und des Widerstands. In diesem Spannungsfeld verstrickt sich eine kategori
 al bestimmte Vernunft in Widersprüche. So entsteht Raum für das Vermöge
 n der Phantasie (Negt\, Kluge\, Becker-Schmidt) und für einen Begriff von
  Klassenbewusstsein\, der nicht als bloße Artikulation von Interessen ver
 standen wird. Untersucht werden soll\, ob sich dabei eine tiefgreifende Um
 wälzung der Kategorien unserer Selbst- und Weltwahrnehmung vollzieht\, di
 e die Ebene des kategorialen Apparates selbst erreicht. Das Seminar hat da
 her Forschungscharakter: einen empirischen Zugang zu entwickeln\, der dies
 e kategorialen Verschiebungen sichtbar macht und fragt\, wie Erkenntnis- u
 nd Sozialstrukturen zusammenhängen.\n\n(Das Seminar wird auf Deutsch und/
 oder Englisch abgehalten.)
ATTACH;FMTTYPE=image/jpeg:https://terminal.digital/wp-content/uploads/2026
 /03/heilg.avif
CATEGORIES:Vortrag, Podium
LOCATION:disputhek\, Leipziger Straße 84\, Dresden\, 01127\, Deutschland
X-APPLE-STRUCTURED-LOCATION;VALUE=URI;X-ADDRESS=Leipziger Straße 84\, Dres
 den\, 01127\, Deutschland;X-APPLE-RADIUS=100;X-TITLE=disputhek:geo:0,0
END:VEVENT
BEGIN:VTIMEZONE
TZID:Europe/Berlin
X-LIC-LOCATION:Europe/Berlin
BEGIN:DAYLIGHT
DTSTART:20260329T030000
TZOFFSETFROM:+0100
TZOFFSETTO:+0200
TZNAME:CEST
END:DAYLIGHT
END:VTIMEZONE
END:VCALENDAR