BEGIN:VCALENDAR
VERSION:2.0
PRODID:-//wp-events-plugin.com//7.2.3.1//EN
TZID:Europe/Berlin
X-WR-TIMEZONE:Europe/Berlin
BEGIN:VEVENT
UID:10728@terminal.digital
DTSTART;TZID=Europe/Berlin:20260401T180000
DTEND;TZID=Europe/Berlin:20260401T180000
DTSTAMP:20260330T183330Z
X-RECURS:FALSE
URL:https://terminal.digital/events/awareness-intervision-3/
SUMMARY:Awareness Intervision
DESCRIPTION:... für alle\, die Awareness oder ähnliche Arbeit machen!\n\n
 Was ist eine Intervision?\nIn einer Intervision setzen sich Menschen\, die
  eine bestimmte Arbeit machen\, zusammen\, um sich über ihre Arbeit auszu
 tauschen: Zum Beispiel um über belastende Situationen zu sprechen und Fra
 gen und Unsicherheiten zu klären.\n\nThemen können sein:\n- Fälle aus e
 uren letzten Schichten\n- Fragen\, die sich aus eurer Arbeit ergeben\n- Th
 emen rund um Arbeitsschutz und Arbeitszeiten\n- Themen\, die wir im letzte
 n Vernetzungstreffen angeschnitten haben\n\nDas Angebot ist für euch kost
 enfrei.\nIhr könnt euch im Hole of Fame mit Getränken von der Bar versor
 gen.\nBringt gern eure Themen mit.\nKommt gern als Team oder Einzelperson.
 \nIhr müsst euch nicht anmelden.\nWenn ihr vorab Themen einbringen möcht
 et\, schreibt gern an:\nAnlaufstelle-Dresden@awareness-institut.net\n\nNä
 chste Termine:\n01.04. von 18 bis 20 Uhr\n30.04. von 18 bis 20 Uhr\n\nIm H
 ole of Fame (Königsbrücker Straße 39)\n\nWir freuen uns auf euch!\n\n**
 *\n\nAwareness Intervision\n... for all doing awareness or similar work!\n
 \nWhat is an Intervision?\nIn an Intervision people who do a certain work 
 or job get together to talk about it: For expample about stressfull situat
 ions or questions and uncertainties they face.\n\nTopics may be:\n- cases 
 from your last shifts\n- questions about your work\n- topics considering w
 ork safety and working hours\n- topics that were mentioned in the last net
 working meeting\n\nThe Intervision is for free.\nYou can buy drinks in the
  bar of the Hole of Fame.\nFeel free to bring your topics.\nYou can come w
 ith a whole team or alone.\nNo registration needed.\nIf you'd like to ment
 ion a topic in advance\, write at:\nAnlaufstelle-Dresden@awareness-institu
 t.net\n\nNext dates:\n01.04.: 6 to 8 pm\n30.04.: 6 to 8 pm\n\nLocation: Ho
 le of Fame (Königsbrücker Straße 39)\n\nSee you there!
CATEGORIES:Workshop, Lesekreis
LOCATION:Hole of Fame\, Königsbrücker Straße 39\, Dresden\, 01099\, Deut
 schland
X-APPLE-STRUCTURED-LOCATION;VALUE=URI;X-ADDRESS=Königsbrücker Straße 39\
 , Dresden\, 01099\, Deutschland;X-APPLE-RADIUS=100;X-TITLE=Hole of Fame:ge
 o:0,0
END:VEVENT
BEGIN:VTIMEZONE
TZID:Europe/Berlin
X-LIC-LOCATION:Europe/Berlin
BEGIN:DAYLIGHT
DTSTART:20260329T030000
TZOFFSETFROM:+0100
TZOFFSETTO:+0200
TZNAME:CEST
END:DAYLIGHT
END:VTIMEZONE
END:VCALENDAR