BEGIN:VCALENDAR
VERSION:2.0
PRODID:-//wp-events-plugin.com//7.2.3.1//EN
TZID:Europe/Berlin
X-WR-TIMEZONE:Europe/Berlin
BEGIN:VEVENT
UID:10822@terminal.digital
DTSTART;TZID=Europe/Berlin:20260420T193000
DTEND;TZID=Europe/Berlin:20260420T193000
DTSTAMP:20260420T110301Z
X-RECURS:FALSE
URL:https://terminal.digital/events/austausch-ueber-die-honorarkuerzungen-
 und-die-weiterbildungssituation-in-der-psychotherapie/
SUMMARY:Austausch über die Honorarkürzungen und die Weiterbildungssituati
 on in der Psychotherapie
DESCRIPTION:Du bist auch wütend und frustriert über die Honorarkürzungen
  und die Weiterbildungssituation in der Psychotherapie? Du hast das Gefüh
 l\, da läuft einiges nicht rund und suchst Menschen\, um sich gemeinsam z
 u engagieren?\n\nDann komm' zu unserem Austausch- und Vernetzungsabend - u
 nd bring' gern auch deine Freund*innen\, Kolleg*innen und Mitstreiter*inne
 n mit!\n\nWir wollen zusammenkommen\, uns austauschen\, vernetzen\, aktiv 
 werden - und verknüpfen\, was schon da ist. Jede interessierte Person ist
  herzlich willkommen - mit oder ohne Ausbildung\, mit oder ohne Fach-Hinte
 rgrund.\n\nIhr seid selbst schon aktiv und sucht Mitstreiter*innen? Dann k
 ommt gern vorbei und stellt eure Initiative oder Idee vor.\n\nKomm vorbei\
 , wir freuen uns auf dich!
CATEGORIES:Offenes Treffen
LOCATION:Café Peckerl\, Rudolf-Leonhard-Straße 5\, Dresden\, 01097\, Deut
 schland
X-APPLE-STRUCTURED-LOCATION;VALUE=URI;X-ADDRESS=Rudolf-Leonhard-Straße 5\,
  Dresden\, 01097\, Deutschland;X-APPLE-RADIUS=100;X-TITLE=Café Peckerl:ge
 o:0,0
END:VEVENT
BEGIN:VTIMEZONE
TZID:Europe/Berlin
X-LIC-LOCATION:Europe/Berlin
BEGIN:DAYLIGHT
DTSTART:20260329T030000
TZOFFSETFROM:+0100
TZOFFSETTO:+0200
TZNAME:CEST
END:DAYLIGHT
END:VTIMEZONE
END:VCALENDAR