BEGIN:VCALENDAR
VERSION:2.0
PRODID:-//wp-events-plugin.com//7.2.3.1//EN
TZID:Europe/Berlin
X-WR-TIMEZONE:Europe/Berlin
BEGIN:VEVENT
UID:10722@terminal.digital
DTSTART;TZID=Europe/Berlin:20260425T160000
DTEND;TZID=Europe/Berlin:20260425T180000
DTSTAMP:20260326T073854Z
X-RECURS:FALSE
URL:https://terminal.digital/events/atomkraft-nein-danke-40-jahrestag-der-
 katastrophe-von-tschornobyl/
SUMMARY:Atomkraft? Nein danke! – 40. Jahrestag der Katastrophe von Tschor
 nobyl
DESCRIPTION:\nAtomkraft? Nein danke! – 40. Jahrestag der Katastrophe von 
 Tschornobyl\n\n\nWann: Samstag\, 25. April 2026 | 16 - 18 Uhr\nWhere: Hole
  of Fame | Königsbrücker Straße 39\, Dresden\n\nAm 26. April 1986 erleb
 te die Welt eine der größten technologischen Katastrophen – die Explos
 ion und Kernschmelze im Kernkraftwerk Tschernobyl. Die Auswirkungen dieses
  Unglücks waren weltweit zu spüren. Die tatsächliche Zahl der Opfer ist
  bis heute nicht bekannt aufgrund der Geheimhaltung durch die sowjetische 
 Bürokratie. Doch schon in den 80er Jahren war klar\, dass Tschornobyl noc
 h sehr lange im Leben der Menschen präsent bleiben würde. Heute\, 40 Jah
 re später kommen wir zusammen\, um uns daran zu erinnern\, was damals ges
 chah\, über die Folgen zu reden und darüber\, warum es wichtig ist\, auc
 h heute diesen Ort nicht aus dem Fokus zu verlieren – angesichts der Bes
 etzung durch russische Truppen\, der Drohnenangriffe und der fortwährende
 n Instandhaltung des riesigen Sarkophags\, der den Rest der Welt vor den F
 ehlern der Menschheit schützt.\n\nDas Sowjetimperium ist längst verschwu
 nden\, und Tschornobyl bleibt eines der Denkmäler des Zusammenbruchs\; es
  erinnert uns daran\, dass wir vorsichtig mit Technologien umgehen müssen
 \, die uns alle zerstören können.\n\nDie Veranstaltung findet in Form vo
 n Lesungen aus den Erinnerungen der von Tschornobyl Betroffenen statt\, er
 gänzt durch Fakten und Zahlen über Vergangenheit und Gegenwart\, gefolgt
  von einer Diskussion darüber\, was wir aus der Vergangenheit lernen kön
 nen\, um die Fehler in der modernen technologischen Welt nicht zu wiederho
 len.\n\nDie Veranstaltung wird englisch/deutsch gemischt sein. \n\nEs gib
 t Snacks und Getränke an der Bar.\n______________________________________
 ________________\n\nNuclear Power? No thanks! - 40th year anniversary of C
 hornobyl disaster\n\nWhen: Saturday 25 April 2026 | 4 - 6 pm \nWhere: Hol
 e of Fame | Königsbrücker Straße 39\, Dresden\n\n\nOn 26 April 1986 the
  world went through one of the biggest technogen catastrophes - explosion 
 and meltdown at Chornobyl nuclear power plant. The echo of that disaster w
 as spread all around the globe and the amount of victims will most probabl
 y never be know due to secrecy of the soviet bureaucratic machine. But bac
 k in the 80s it was clear that the Chornobyl will stay in the lives of peo
 ple for very long time. We gather 40 years later to remember what was happ
 ening back then\, talk about the consequences and why it is important to t
 alk about the place today\, with it's occupation by russian troops\, drone
  strike and continuous maintenance of the huge sarcophagus that protects t
 he rest of the world from the mistakes of the humankind.\n\nThe Soviet Emp
 ire is long gone\, and Chornobyl is one of the monuments to it's collapse\
 , reminds us that we have to be careful with technology that can destroy u
 s all.\n\nThe event will be in the format of reading parts of memories tho
 se who were affected by Chornobyl\, but also facts and figures about past 
 and present with a discussion afterwards on what we can learn from the pas
 t not to repeat the mistakes in the modern technological world.\n\nThe eve
 nt will be in german and english language. \n\nThere will be snacks and d
 rinks at the bar. \n
ATTACH;FMTTYPE=image/jpeg:https://terminal.digital/wp-content/uploads/2026
 /03/Tschornobyl2026_web.avif
CATEGORIES:Lesung,Vortrag, Podium
LOCATION:Hole of Fame\, Königsbrücker Straße 39\, Dresden\, 01099\, Deut
 schland
X-APPLE-STRUCTURED-LOCATION;VALUE=URI;X-ADDRESS=Königsbrücker Straße 39\
 , Dresden\, 01099\, Deutschland;X-APPLE-RADIUS=100;X-TITLE=Hole of Fame:ge
 o:0,0
END:VEVENT
BEGIN:VTIMEZONE
TZID:Europe/Berlin
X-LIC-LOCATION:Europe/Berlin
BEGIN:DAYLIGHT
DTSTART:20260329T030000
TZOFFSETFROM:+0100
TZOFFSETTO:+0200
TZNAME:CEST
END:DAYLIGHT
END:VTIMEZONE
END:VCALENDAR