BEGIN:VCALENDAR
VERSION:2.0
PRODID:-//wp-events-plugin.com//7.2.3.1//EN
TZID:Europe/Berlin
X-WR-TIMEZONE:Europe/Berlin
BEGIN:VEVENT
UID:7517@terminal.digital
DTSTART;TZID=Europe/Berlin:20241213T170000
DTEND;TZID=Europe/Berlin:20241213T183000
DTSTAMP:20241128T183636Z
X-RECURS:FALSE
URL:https://terminal.digital/events/animal-circuses-are-bullshit-kundgebun
 g-zur-premiere-des-dresdner-weihnachtscircus/
SUMMARY:Animal Circuses Are Bullshit! - Kundgebung zur Premiere des Dresdne
 r Weihnachtscircus
DESCRIPTION:Kundgebung zur Premiere des Dresdner Weihnachtscircus\n\nAlle J
 ahre wieder... 🎄\n\nDer Dresdner Weihnachtszirkus ist wieder in der Sta
 dt und mit ihm 14 Hunde sowie mehrere Pferde\, die zur Unterhaltung des Pu
 blikums unter Zwang und hohem Stress Abend für Abend ihre Kunststücke vo
 rführen müssen. Und auch wenn dieses Jahr erstmals keine sogenannten Wil
 dtiere beim DWC auftreten\, so wird mit Joszef Richter einem Menschen eine
  Bühne gegeben\, der nicht nur weiterhin Pferde für seine Kunststücke a
 usbeutet\, sondern auch selbst Betreiber eines "Safari Parks" in Ungarn is
 t. \nAlle Jahre wieder zeigen wir deswegen vor dem DWC Präsenz. \n\nAm 13
 .12.\, dem Tag der Premiere\, wollen wir ab 17.30 Uhr vor dem DWC demonstr
 ieren\, um dem Circus und seinen Besucher*innen zu signalisieren: Nichtmen
 schliche Tiere sind keine Entertainer. Sie gehören genauso wenig in die M
 anege wie in irgendwelche Safariparks. Wir sagen: ACAB- Animal Circuses Ar
 e Bullshit\n\n🗓️ 13.12.2024\n🕖 17:00 Uhr\n📍 Washingtonstraße 2
 \n\nAußerdem rufen wir dazu auf\, sich am 13.12. an den jährlichen Prote
 sten gegen Polizei(gewalt) und Repressionen zu beteiligen. Denn egal\, ob 
 über menschliche oder nichtmenschliche Tiere\, Herrschaft ist immer schei
 ße. Deswegen sagen wir auch: ACAB- All Cops Are Bastards\n\nWir sehen uns
  auf der Straße. Alerta!⁩
ATTACH;FMTTYPE=image/jpeg:https://terminal.digital/wp-content/uploads/2024
 /11/DWC.cleaned-png.avif
CATEGORIES:Demo, Kundgebung
END:VEVENT
BEGIN:VTIMEZONE
TZID:Europe/Berlin
X-LIC-LOCATION:Europe/Berlin
BEGIN:STANDARD
DTSTART:20241027T020000
TZOFFSETFROM:+0200
TZOFFSETTO:+0100
TZNAME:CET
END:STANDARD
END:VTIMEZONE
END:VCALENDAR