BEGIN:VCALENDAR
VERSION:2.0
PRODID:-//wp-events-plugin.com//7.2.3.1//EN
TZID:Europe/Berlin
X-WR-TIMEZONE:Europe/Berlin
BEGIN:VEVENT
UID:8773@terminal.digital
DTSTART;TZID=Europe/Berlin;VALUE=DATE:20250822
DTEND;TZID=Europe/Berlin;VALUE=DATE:20250824
DTSTAMP:20250603T163234Z
X-RECURS:FALSE
URL:https://terminal.digital/events/12-imi-fest/
SUMMARY:12. ImI Fest
DESCRIPTION:Neue Runde\, neues Glück! Wir präsentieren voller stolz die 2
 2. Ausgabe IMI-Fest!\nEin großartiges Line Up zu Schnäppchenpreisen\, DI
 Y-Attitüde bis zum get no und\nzweieinhalb Tage rumasseln im sächsischen
  Hinterland...klingt doch Perfekt!\n
ATTACH;FMTTYPE=image/jpeg:https://terminal.digital/wp-content/uploads/2025
 /06/imi-fest.avif
CATEGORIES:Party, Festival
LOCATION:Initiative mit Ideen e.V.\, An der Zugspitze 1-2\, Brand-Erbisdorf
 \, 09618\, Deutschland
X-APPLE-STRUCTURED-LOCATION;VALUE=URI;X-ADDRESS=An der Zugspitze 1-2\, Bran
 d-Erbisdorf\, 09618\, Deutschland;X-APPLE-RADIUS=100;X-TITLE=Initiative mi
 t Ideen e.V.:geo:0,0
END:VEVENT
BEGIN:VTIMEZONE
TZID:Europe/Berlin
X-LIC-LOCATION:Europe/Berlin
BEGIN:DAYLIGHT
DTSTART:20250330T030000
TZOFFSETFROM:+0100
TZOFFSETTO:+0200
TZNAME:CEST
END:DAYLIGHT
END:VTIMEZONE
END:VCALENDAR