BEGIN:VCALENDAR
VERSION:2.0
PRODID:-//wp-events-plugin.com//7.2.3.1//EN
TZID:Europe/Berlin
X-WR-TIMEZONE:Europe/Berlin
BEGIN:VEVENT
UID:10830@terminal.digital
DTSTART;TZID=Europe/Berlin:20260501T140000
DTEND;TZID=Europe/Berlin:20260501T140000
DTSTAMP:20260421T163228Z
X-RECURS:FALSE
URL:https://terminal.digital/events/1-mai-kundgebung-mit-staenden-und-work
 shops/
SUMMARY:1. Mai Kundgebung mit Ständen und Workshops
DESCRIPTION:
CATEGORIES:Demo, Kundgebung
LOCATION:Jorge-Gomondai-Platz\, Jorge-Gomondai-Platz \, Dresden\, 01097\, D
 eutschland
X-APPLE-STRUCTURED-LOCATION;VALUE=URI;X-ADDRESS=Jorge-Gomondai-Platz \, Dre
 sden\, 01097\, Deutschland;X-APPLE-RADIUS=100;X-TITLE=Jorge-Gomondai-Platz
 :geo:0,0
END:VEVENT
BEGIN:VTIMEZONE
TZID:Europe/Berlin
X-LIC-LOCATION:Europe/Berlin
BEGIN:DAYLIGHT
DTSTART:20260329T030000
TZOFFSETFROM:+0100
TZOFFSETTO:+0200
TZNAME:CEST
END:DAYLIGHT
END:VTIMEZONE
END:VCALENDAR